BEGIN:VCALENDAR
VERSION:2.0
PRODID:-//Dorpshuis de Hoeksteen - ECPv6.15.20//NONSGML v1.0//EN
CALSCALE:GREGORIAN
METHOD:PUBLISH
X-ORIGINAL-URL:https://dorpshuisdehoeksteen.nl
X-WR-CALDESC:Evenementen voor Dorpshuis de Hoeksteen
REFRESH-INTERVAL;VALUE=DURATION:PT1H
X-Robots-Tag:noindex
X-PUBLISHED-TTL:PT1H
BEGIN:VTIMEZONE
TZID:Europe/Amsterdam
BEGIN:DAYLIGHT
TZOFFSETFROM:+0100
TZOFFSETTO:+0200
TZNAME:CEST
DTSTART:20210328T010000
END:DAYLIGHT
BEGIN:STANDARD
TZOFFSETFROM:+0200
TZOFFSETTO:+0100
TZNAME:CET
DTSTART:20211031T010000
END:STANDARD
BEGIN:DAYLIGHT
TZOFFSETFROM:+0100
TZOFFSETTO:+0200
TZNAME:CEST
DTSTART:20220327T010000
END:DAYLIGHT
BEGIN:STANDARD
TZOFFSETFROM:+0200
TZOFFSETTO:+0100
TZNAME:CET
DTSTART:20221030T010000
END:STANDARD
BEGIN:DAYLIGHT
TZOFFSETFROM:+0100
TZOFFSETTO:+0200
TZNAME:CEST
DTSTART:20230326T010000
END:DAYLIGHT
BEGIN:STANDARD
TZOFFSETFROM:+0200
TZOFFSETTO:+0100
TZNAME:CET
DTSTART:20231029T010000
END:STANDARD
END:VTIMEZONE
BEGIN:VEVENT
DTSTART;TZID=Europe/Amsterdam:20221216T190000
DTEND;TZID=Europe/Amsterdam:20221216T210000
DTSTAMP:20260419T200418
CREATED:20221102T211145Z
LAST-MODIFIED:20221201T111024Z
UID:1624-1671217200-1671224400@dorpshuisdehoeksteen.nl
SUMMARY:Disco glitter en glamour voor groep 6 tm 8  (Organisator: Jongerenvereniging ’t Honk)
DESCRIPTION:
URL:https://dorpshuisdehoeksteen.nl/evenement/disco-met-gala-organisator-jongerenvereniging-t-honk/
LOCATION:Speelzaal ruimte
CATEGORIES:Agenda voor Dorpshuis,Agenda voor verenigingen,Besloten
END:VEVENT
BEGIN:VEVENT
DTSTART;TZID=Europe/Amsterdam:20221216T210000
DTEND;TZID=Europe/Amsterdam:20221216T230000
DTSTAMP:20260419T200418
CREATED:20221201T111410Z
LAST-MODIFIED:20221201T111410Z
UID:1777-1671224400-1671231600@dorpshuisdehoeksteen.nl
SUMMARY:Disco glitter en glamour vanaf het VO t/m 16 jaar  (Organisator: Jongerenvereniging ’t Honk)
DESCRIPTION:
URL:https://dorpshuisdehoeksteen.nl/evenement/disco-glitter-en-glamour-vanaf-het-vo-t-m-16-jaar-organisator-jongerenvereniging-t-honk/
LOCATION:Speelzaal ruimte
CATEGORIES:Agenda voor Dorpshuis,Agenda voor verenigingen,Besloten
END:VEVENT
END:VCALENDAR