BEGIN:VCALENDAR
VERSION:2.0
PRODID:-//Dorpshuis de Hoeksteen - ECPv6.15.20//NONSGML v1.0//EN
CALSCALE:GREGORIAN
METHOD:PUBLISH
X-WR-CALNAME:Dorpshuis de Hoeksteen
X-ORIGINAL-URL:https://dorpshuisdehoeksteen.nl
X-WR-CALDESC:Evenementen voor Dorpshuis de Hoeksteen
REFRESH-INTERVAL;VALUE=DURATION:PT1H
X-Robots-Tag:noindex
X-PUBLISHED-TTL:PT1H
BEGIN:VTIMEZONE
TZID:Europe/Amsterdam
BEGIN:DAYLIGHT
TZOFFSETFROM:+0100
TZOFFSETTO:+0200
TZNAME:CEST
DTSTART:20220327T010000
END:DAYLIGHT
BEGIN:STANDARD
TZOFFSETFROM:+0200
TZOFFSETTO:+0100
TZNAME:CET
DTSTART:20221030T010000
END:STANDARD
BEGIN:DAYLIGHT
TZOFFSETFROM:+0100
TZOFFSETTO:+0200
TZNAME:CEST
DTSTART:20230326T010000
END:DAYLIGHT
BEGIN:STANDARD
TZOFFSETFROM:+0200
TZOFFSETTO:+0100
TZNAME:CET
DTSTART:20231029T010000
END:STANDARD
BEGIN:DAYLIGHT
TZOFFSETFROM:+0100
TZOFFSETTO:+0200
TZNAME:CEST
DTSTART:20240331T010000
END:DAYLIGHT
BEGIN:STANDARD
TZOFFSETFROM:+0200
TZOFFSETTO:+0100
TZNAME:CET
DTSTART:20241027T010000
END:STANDARD
END:VTIMEZONE
BEGIN:VEVENT
DTSTART;TZID=Europe/Amsterdam:20230210T090000
DTEND;TZID=Europe/Amsterdam:20230210T100000
DTSTAMP:20260420T075627
CREATED:20230117T134949Z
LAST-MODIFIED:20230117T135203Z
UID:2359-1676019600-1676023200@dorpshuisdehoeksteen.nl
SUMMARY:Combi fitness / kickbokszak training
DESCRIPTION:
URL:https://dorpshuisdehoeksteen.nl/evenement/combi-fitness-kickbokszak-training-4/
LOCATION:Zwembad ruimte
CATEGORIES:Agenda voor Dorpshuis,Besloten
END:VEVENT
BEGIN:VEVENT
DTSTART;TZID=Europe/Amsterdam:20230210T190000
DTEND;TZID=Europe/Amsterdam:20230210T230000
DTSTAMP:20260420T075627
CREATED:20230105T204339Z
LAST-MODIFIED:20230205T225238Z
UID:2272-1676055600-1676070000@dorpshuisdehoeksteen.nl
SUMMARY:Disco (Organisator: Jongerenvereniging ’t Honk)
DESCRIPTION:
URL:https://dorpshuisdehoeksteen.nl/evenement/disco-organisator-jongerenvereniging-t-honk/
LOCATION:Dorpshuis de Hoeksteen\, Vangstraat 2A\, STOMPETOREN\, 1841 GN\, Nederland
CATEGORIES:Agenda voor Dorpshuis,Agenda voor verenigingen,Besloten
END:VEVENT
END:VCALENDAR