BEGIN:VCALENDAR
VERSION:2.0
PRODID:-//Dorpshuis de Hoeksteen - ECPv6.15.20//NONSGML v1.0//EN
CALSCALE:GREGORIAN
METHOD:PUBLISH
X-ORIGINAL-URL:https://dorpshuisdehoeksteen.nl
X-WR-CALDESC:Evenementen voor Dorpshuis de Hoeksteen
REFRESH-INTERVAL;VALUE=DURATION:PT1H
X-Robots-Tag:noindex
X-PUBLISHED-TTL:PT1H
BEGIN:VTIMEZONE
TZID:Europe/Amsterdam
BEGIN:DAYLIGHT
TZOFFSETFROM:+0100
TZOFFSETTO:+0200
TZNAME:CEST
DTSTART:20220327T010000
END:DAYLIGHT
BEGIN:STANDARD
TZOFFSETFROM:+0200
TZOFFSETTO:+0100
TZNAME:CET
DTSTART:20221030T010000
END:STANDARD
BEGIN:DAYLIGHT
TZOFFSETFROM:+0100
TZOFFSETTO:+0200
TZNAME:CEST
DTSTART:20230326T010000
END:DAYLIGHT
BEGIN:STANDARD
TZOFFSETFROM:+0200
TZOFFSETTO:+0100
TZNAME:CET
DTSTART:20231029T010000
END:STANDARD
BEGIN:DAYLIGHT
TZOFFSETFROM:+0100
TZOFFSETTO:+0200
TZNAME:CEST
DTSTART:20240331T010000
END:DAYLIGHT
BEGIN:STANDARD
TZOFFSETFROM:+0200
TZOFFSETTO:+0100
TZNAME:CET
DTSTART:20241027T010000
END:STANDARD
END:VTIMEZONE
BEGIN:VEVENT
DTSTART;TZID=Europe/Amsterdam:20230316T133000
DTEND;TZID=Europe/Amsterdam:20230316T163000
DTSTAMP:20260419T175701
CREATED:20230101T134523Z
LAST-MODIFIED:20230101T140742Z
UID:2100-1678973400-1678984200@dorpshuisdehoeksteen.nl
SUMMARY:Biljarten competitie (donderdagmiddag)
DESCRIPTION:
URL:https://dorpshuisdehoeksteen.nl/evenement/biljarten-competitie-donderdagmiddag-18/
LOCATION:Speelzaal ruimte
CATEGORIES:Agenda voor Dorpshuis,Besloten
END:VEVENT
BEGIN:VEVENT
DTSTART;TZID=Europe/Amsterdam:20230316T200000
DTEND;TZID=Europe/Amsterdam:20230316T213000
DTSTAMP:20260419T175702
CREATED:20230306T090401Z
LAST-MODIFIED:20230316T213703Z
UID:2501-1678996800-1679002200@dorpshuisdehoeksteen.nl
SUMMARY:Vergadering Dorpsraad
DESCRIPTION:
URL:https://dorpshuisdehoeksteen.nl/evenement/vergadering-dorpsraad-23/
LOCATION:Speelzaal ruimte
CATEGORIES:Agenda voor Dorpshuis,Besloten
END:VEVENT
END:VCALENDAR