BEGIN:VCALENDAR
VERSION:2.0
PRODID:-//Dorpshuis de Hoeksteen - ECPv6.15.20//NONSGML v1.0//EN
CALSCALE:GREGORIAN
METHOD:PUBLISH
X-WR-CALNAME:Dorpshuis de Hoeksteen
X-ORIGINAL-URL:https://dorpshuisdehoeksteen.nl
X-WR-CALDESC:Evenementen voor Dorpshuis de Hoeksteen
REFRESH-INTERVAL;VALUE=DURATION:PT1H
X-Robots-Tag:noindex
X-PUBLISHED-TTL:PT1H
BEGIN:VTIMEZONE
TZID:Europe/Amsterdam
BEGIN:DAYLIGHT
TZOFFSETFROM:+0100
TZOFFSETTO:+0200
TZNAME:CEST
DTSTART:20250330T010000
END:DAYLIGHT
BEGIN:STANDARD
TZOFFSETFROM:+0200
TZOFFSETTO:+0100
TZNAME:CET
DTSTART:20251026T010000
END:STANDARD
BEGIN:DAYLIGHT
TZOFFSETFROM:+0100
TZOFFSETTO:+0200
TZNAME:CEST
DTSTART:20260329T010000
END:DAYLIGHT
BEGIN:STANDARD
TZOFFSETFROM:+0200
TZOFFSETTO:+0100
TZNAME:CET
DTSTART:20261025T010000
END:STANDARD
BEGIN:DAYLIGHT
TZOFFSETFROM:+0100
TZOFFSETTO:+0200
TZNAME:CEST
DTSTART:20270328T010000
END:DAYLIGHT
BEGIN:STANDARD
TZOFFSETFROM:+0200
TZOFFSETTO:+0100
TZNAME:CET
DTSTART:20271031T010000
END:STANDARD
END:VTIMEZONE
BEGIN:VEVENT
DTSTART;VALUE=DATE:20260424
DTEND;VALUE=DATE:20260501
DTSTAMP:20260424T101453
CREATED:20260420T124857Z
LAST-MODIFIED:20260420T124857Z
UID:7031-1776988800-1777593599@dorpshuisdehoeksteen.nl
SUMMARY:Vloer wordt opnieuw "gelakt"
DESCRIPTION:DORPSHUIS GESLOTEN
URL:https://dorpshuisdehoeksteen.nl/evenement/vloer-wordt-opnieuw-gelakt/
LOCATION:NH
CATEGORIES:Agenda voor Dorpshuis,Agenda voor verenigingen,Openbaar
END:VEVENT
END:VCALENDAR