BEGIN:VCALENDAR
VERSION:2.0
PRODID:-//Dorpshuis de Hoeksteen - ECPv6.15.20//NONSGML v1.0//EN
CALSCALE:GREGORIAN
METHOD:PUBLISH
X-ORIGINAL-URL:https://dorpshuisdehoeksteen.nl
X-WR-CALDESC:Evenementen voor Dorpshuis de Hoeksteen
REFRESH-INTERVAL;VALUE=DURATION:PT1H
X-Robots-Tag:noindex
X-PUBLISHED-TTL:PT1H
BEGIN:VTIMEZONE
TZID:Europe/Amsterdam
BEGIN:DAYLIGHT
TZOFFSETFROM:+0100
TZOFFSETTO:+0200
TZNAME:CEST
DTSTART:20240331T010000
END:DAYLIGHT
BEGIN:STANDARD
TZOFFSETFROM:+0200
TZOFFSETTO:+0100
TZNAME:CET
DTSTART:20241027T010000
END:STANDARD
BEGIN:DAYLIGHT
TZOFFSETFROM:+0100
TZOFFSETTO:+0200
TZNAME:CEST
DTSTART:20250330T010000
END:DAYLIGHT
BEGIN:STANDARD
TZOFFSETFROM:+0200
TZOFFSETTO:+0100
TZNAME:CET
DTSTART:20251026T010000
END:STANDARD
BEGIN:DAYLIGHT
TZOFFSETFROM:+0100
TZOFFSETTO:+0200
TZNAME:CEST
DTSTART:20260329T010000
END:DAYLIGHT
BEGIN:STANDARD
TZOFFSETFROM:+0200
TZOFFSETTO:+0100
TZNAME:CET
DTSTART:20261025T010000
END:STANDARD
END:VTIMEZONE
BEGIN:VEVENT
DTSTART;TZID=Europe/Amsterdam:20251009T100000
DTEND;TZID=Europe/Amsterdam:20251009T120000
DTSTAMP:20260422T021319
CREATED:20241024T201802Z
LAST-MODIFIED:20250517T120943Z
UID:4578-1760004000-1760011200@dorpshuisdehoeksteen.nl
SUMMARY:Handwerk ochtend
DESCRIPTION:Heb je zin in een gezellige ochtend samen handwerken dan ben je van harte welkom.
URL:https://dorpshuisdehoeksteen.nl/evenement/handwerk-ochtend-126/
LOCATION:Kantine Schermeerruiters\, Dres 35\, Stompetoren\, 1841EB\, Netherlands
CATEGORIES:Agenda voor Dorpshuis
END:VEVENT
BEGIN:VEVENT
DTSTART;TZID=Europe/Amsterdam:20251009T133000
DTEND;TZID=Europe/Amsterdam:20251009T163000
DTSTAMP:20260422T021319
CREATED:20241024T212045Z
LAST-MODIFIED:20250517T195018Z
UID:4757-1760016600-1760027400@dorpshuisdehoeksteen.nl
SUMMARY:Biljarten competitie (donderdagmiddag)
DESCRIPTION:
URL:https://dorpshuisdehoeksteen.nl/evenement/biljarten-competitie-donderdagmiddag-104/
LOCATION:Thuis bij J. van Dam\, Morgen 5\, Stompetoren\, 1841ED\, Netherlands
CATEGORIES:Agenda voor Dorpshuis
END:VEVENT
BEGIN:VEVENT
DTSTART;TZID=Europe/Amsterdam:20251009T183000
DTEND;TZID=Europe/Amsterdam:20251009T193000
DTSTAMP:20260422T021319
CREATED:20250930T135738Z
LAST-MODIFIED:20250930T135738Z
UID:6083-1760034600-1760038200@dorpshuisdehoeksteen.nl
SUMMARY:Vergadering Dorpsraad
DESCRIPTION:
URL:https://dorpshuisdehoeksteen.nl/evenement/vergadering-dorpsraad-41/
LOCATION:Kantine Schermeerruiters\, Dres 35\, Stompetoren\, 1841EB\, Netherlands
CATEGORIES:Agenda voor Dorpshuis,Besloten
END:VEVENT
END:VCALENDAR