BEGIN:VCALENDAR
VERSION:2.0
PRODID:-//Dorpshuis de Hoeksteen - ECPv6.15.20//NONSGML v1.0//EN
CALSCALE:GREGORIAN
METHOD:PUBLISH
X-WR-CALNAME:Dorpshuis de Hoeksteen
X-ORIGINAL-URL:https://dorpshuisdehoeksteen.nl
X-WR-CALDESC:Evenementen voor Dorpshuis de Hoeksteen
REFRESH-INTERVAL;VALUE=DURATION:PT1H
X-Robots-Tag:noindex
X-PUBLISHED-TTL:PT1H
BEGIN:VTIMEZONE
TZID:Europe/Amsterdam
BEGIN:DAYLIGHT
TZOFFSETFROM:+0100
TZOFFSETTO:+0200
TZNAME:CEST
DTSTART:20240331T010000
END:DAYLIGHT
BEGIN:STANDARD
TZOFFSETFROM:+0200
TZOFFSETTO:+0100
TZNAME:CET
DTSTART:20241027T010000
END:STANDARD
BEGIN:DAYLIGHT
TZOFFSETFROM:+0100
TZOFFSETTO:+0200
TZNAME:CEST
DTSTART:20250330T010000
END:DAYLIGHT
BEGIN:STANDARD
TZOFFSETFROM:+0200
TZOFFSETTO:+0100
TZNAME:CET
DTSTART:20251026T010000
END:STANDARD
BEGIN:DAYLIGHT
TZOFFSETFROM:+0100
TZOFFSETTO:+0200
TZNAME:CEST
DTSTART:20260329T010000
END:DAYLIGHT
BEGIN:STANDARD
TZOFFSETFROM:+0200
TZOFFSETTO:+0100
TZNAME:CET
DTSTART:20261025T010000
END:STANDARD
END:VTIMEZONE
BEGIN:VEVENT
DTSTART;TZID=Europe/Amsterdam:20251014T133000
DTEND;TZID=Europe/Amsterdam:20251014T153000
DTSTAMP:20260422T000808
CREATED:20241212T102503Z
LAST-MODIFIED:20250917T083653Z
UID:4864-1760448600-1760455800@dorpshuisdehoeksteen.nl
SUMMARY:Werkoverleg Villa Wittenburg
DESCRIPTION:
URL:https://dorpshuisdehoeksteen.nl/evenement/werkoverleg-villa-wittenburg-8/
LOCATION:Kantine Schermeerruiters\, Dres 35\, Stompetoren\, 1841EB\, Netherlands
CATEGORIES:Agenda voor Dorpshuis,Besloten
END:VEVENT
BEGIN:VEVENT
DTSTART;TZID=Europe/Amsterdam:20251014T200000
DTEND;TZID=Europe/Amsterdam:20251014T220000
DTSTAMP:20260422T000808
CREATED:20250913T171330Z
LAST-MODIFIED:20250916T064619Z
UID:6066-1760472000-1760479200@dorpshuisdehoeksteen.nl
SUMMARY:Bestuursvergadering Schermeerruiters Stompetoren
DESCRIPTION:
URL:https://dorpshuisdehoeksteen.nl/evenement/bestuursvergadering-ijsclub-stompetoren/
LOCATION:Kantine Schermeerruiters\, Dres 35\, Stompetoren\, 1841EB\, Netherlands
CATEGORIES:Agenda voor Dorpshuis,Besloten
END:VEVENT
END:VCALENDAR