BEGIN:VCALENDAR
VERSION:2.0
PRODID:-//Dorpshuis de Hoeksteen - ECPv6.15.20//NONSGML v1.0//EN
CALSCALE:GREGORIAN
METHOD:PUBLISH
X-WR-CALNAME:Dorpshuis de Hoeksteen
X-ORIGINAL-URL:https://dorpshuisdehoeksteen.nl
X-WR-CALDESC:Evenementen voor Dorpshuis de Hoeksteen
REFRESH-INTERVAL;VALUE=DURATION:PT1H
X-Robots-Tag:noindex
X-PUBLISHED-TTL:PT1H
BEGIN:VTIMEZONE
TZID:Europe/Amsterdam
BEGIN:DAYLIGHT
TZOFFSETFROM:+0100
TZOFFSETTO:+0200
TZNAME:CEST
DTSTART:20240331T010000
END:DAYLIGHT
BEGIN:STANDARD
TZOFFSETFROM:+0200
TZOFFSETTO:+0100
TZNAME:CET
DTSTART:20241027T010000
END:STANDARD
BEGIN:DAYLIGHT
TZOFFSETFROM:+0100
TZOFFSETTO:+0200
TZNAME:CEST
DTSTART:20250330T010000
END:DAYLIGHT
BEGIN:STANDARD
TZOFFSETFROM:+0200
TZOFFSETTO:+0100
TZNAME:CET
DTSTART:20251026T010000
END:STANDARD
BEGIN:DAYLIGHT
TZOFFSETFROM:+0100
TZOFFSETTO:+0200
TZNAME:CEST
DTSTART:20260329T010000
END:DAYLIGHT
BEGIN:STANDARD
TZOFFSETFROM:+0200
TZOFFSETTO:+0100
TZNAME:CET
DTSTART:20261025T010000
END:STANDARD
END:VTIMEZONE
BEGIN:VEVENT
DTSTART;TZID=Europe/Amsterdam:20251017T190000
DTEND;TZID=Europe/Amsterdam:20251017T210000
DTSTAMP:20260421T235704
CREATED:20250910T103204Z
LAST-MODIFIED:20251006T151923Z
UID:6057-1760727600-1760734800@dorpshuisdehoeksteen.nl
SUMMARY:Creatief met jongeren vanaf groep 5 (Organisator: Jongerenvereniging ’t Honk)
DESCRIPTION:🎨’t Honk Creatief!🍂 \nKom op *lvrijdag 17 oktober van 19.00 tot 21.00 uur gezellig een herfststukje maken! 🍁 \n👥 Wie: vanaf groep 5\n📍Waar: in verband met de verbouwing in de Wiekslag\n👕Trek oude kleding aan! \n📆Aanmelden kan tot 15 oktober. Ivm de locatie hanteren een maximaal aantal. \nDe voorbereidingen zijn al in volle gang — wij hebben er zin in\, jij ook? Tot dan! 👋🏼
URL:https://dorpshuisdehoeksteen.nl/evenement/creatief-met-jongeren-vanaf-groep-5-organisator-jongerenvereniging-t-honk-11/
LOCATION:Kantine Schermeerruiters\, Dres 35\, Stompetoren\, 1841EB\, Netherlands
CATEGORIES:Agenda voor Dorpshuis,Agenda voor verenigingen,Besloten
END:VEVENT
END:VCALENDAR