BEGIN:VCALENDAR
VERSION:2.0
PRODID:-//Dorpshuis de Hoeksteen - ECPv6.15.20//NONSGML v1.0//EN
CALSCALE:GREGORIAN
METHOD:PUBLISH
X-ORIGINAL-URL:https://dorpshuisdehoeksteen.nl
X-WR-CALDESC:Evenementen voor Dorpshuis de Hoeksteen
REFRESH-INTERVAL;VALUE=DURATION:PT1H
X-Robots-Tag:noindex
X-PUBLISHED-TTL:PT1H
BEGIN:VTIMEZONE
TZID:Europe/Amsterdam
BEGIN:DAYLIGHT
TZOFFSETFROM:+0100
TZOFFSETTO:+0200
TZNAME:CEST
DTSTART:20240331T010000
END:DAYLIGHT
BEGIN:STANDARD
TZOFFSETFROM:+0200
TZOFFSETTO:+0100
TZNAME:CET
DTSTART:20241027T010000
END:STANDARD
BEGIN:DAYLIGHT
TZOFFSETFROM:+0100
TZOFFSETTO:+0200
TZNAME:CEST
DTSTART:20250330T010000
END:DAYLIGHT
BEGIN:STANDARD
TZOFFSETFROM:+0200
TZOFFSETTO:+0100
TZNAME:CET
DTSTART:20251026T010000
END:STANDARD
BEGIN:DAYLIGHT
TZOFFSETFROM:+0100
TZOFFSETTO:+0200
TZNAME:CEST
DTSTART:20260329T010000
END:DAYLIGHT
BEGIN:STANDARD
TZOFFSETFROM:+0200
TZOFFSETTO:+0100
TZNAME:CET
DTSTART:20261025T010000
END:STANDARD
END:VTIMEZONE
BEGIN:VEVENT
DTSTART;TZID=Europe/Amsterdam:20251030T100000
DTEND;TZID=Europe/Amsterdam:20251030T110000
DTSTAMP:20260421T225541
CREATED:20251016T205852Z
LAST-MODIFIED:20251016T205852Z
UID:6119-1761818400-1761822000@dorpshuisdehoeksteen.nl
SUMMARY:Ophalen verkiezingsmaterialen op locatie Dres 35 door Stadwerk072 en Albers Euromovers
DESCRIPTION:
URL:https://dorpshuisdehoeksteen.nl/evenement/ophalen-verkiezingsmaterialen-op-locatie-dres-35-door-stadwerk072-en-albers-euromovers/
LOCATION:Kantine Schermeerruiters\, Dres 35\, Stompetoren\, 1841EB\, Netherlands
CATEGORIES:Agenda voor Dorpshuis,Besloten
END:VEVENT
BEGIN:VEVENT
DTSTART;TZID=Europe/Amsterdam:20251030T100000
DTEND;TZID=Europe/Amsterdam:20251030T120000
DTSTAMP:20260421T225541
CREATED:20241024T201804Z
LAST-MODIFIED:20250517T120943Z
UID:4581-1761818400-1761825600@dorpshuisdehoeksteen.nl
SUMMARY:Handwerk ochtend
DESCRIPTION:Heb je zin in een gezellige ochtend samen handwerken dan ben je van harte welkom.
URL:https://dorpshuisdehoeksteen.nl/evenement/handwerk-ochtend-129/
LOCATION:Kantine Schermeerruiters\, Dres 35\, Stompetoren\, 1841EB\, Netherlands
CATEGORIES:Agenda voor Dorpshuis
END:VEVENT
BEGIN:VEVENT
DTSTART;TZID=Europe/Amsterdam:20251030T133000
DTEND;TZID=Europe/Amsterdam:20251030T163000
DTSTAMP:20260421T225541
CREATED:20241024T212059Z
LAST-MODIFIED:20250517T195018Z
UID:4760-1761831000-1761841800@dorpshuisdehoeksteen.nl
SUMMARY:Biljarten competitie (donderdagmiddag)
DESCRIPTION:
URL:https://dorpshuisdehoeksteen.nl/evenement/biljarten-competitie-donderdagmiddag-107/
LOCATION:Thuis bij J. van Dam\, Morgen 5\, Stompetoren\, 1841ED\, Netherlands
CATEGORIES:Agenda voor Dorpshuis
END:VEVENT
END:VCALENDAR