BEGIN:VCALENDAR
VERSION:2.0
PRODID:-//Dorpshuis de Hoeksteen - ECPv6.15.20//NONSGML v1.0//EN
CALSCALE:GREGORIAN
METHOD:PUBLISH
X-ORIGINAL-URL:https://dorpshuisdehoeksteen.nl
X-WR-CALDESC:Evenementen voor Dorpshuis de Hoeksteen
REFRESH-INTERVAL;VALUE=DURATION:PT1H
X-Robots-Tag:noindex
X-PUBLISHED-TTL:PT1H
BEGIN:VTIMEZONE
TZID:Europe/Amsterdam
BEGIN:DAYLIGHT
TZOFFSETFROM:+0100
TZOFFSETTO:+0200
TZNAME:CEST
DTSTART:20240331T010000
END:DAYLIGHT
BEGIN:STANDARD
TZOFFSETFROM:+0200
TZOFFSETTO:+0100
TZNAME:CET
DTSTART:20241027T010000
END:STANDARD
BEGIN:DAYLIGHT
TZOFFSETFROM:+0100
TZOFFSETTO:+0200
TZNAME:CEST
DTSTART:20250330T010000
END:DAYLIGHT
BEGIN:STANDARD
TZOFFSETFROM:+0200
TZOFFSETTO:+0100
TZNAME:CET
DTSTART:20251026T010000
END:STANDARD
BEGIN:DAYLIGHT
TZOFFSETFROM:+0100
TZOFFSETTO:+0200
TZNAME:CEST
DTSTART:20260329T010000
END:DAYLIGHT
BEGIN:STANDARD
TZOFFSETFROM:+0200
TZOFFSETTO:+0100
TZNAME:CET
DTSTART:20261025T010000
END:STANDARD
END:VTIMEZONE
BEGIN:VEVENT
DTSTART;TZID=Europe/Amsterdam:20251103T100000
DTEND;TZID=Europe/Amsterdam:20251103T123000
DTSTAMP:20260422T002941
CREATED:20250517T120001Z
LAST-MODIFIED:20250517T120001Z
UID:5648-1762164000-1762173000@dorpshuisdehoeksteen.nl
SUMMARY:Inloopochtend en Repair cafe Dorpshuis de Hoeksteen
DESCRIPTION:Vrije inloop deze ochtend. De koffie en thee staat klaar. Kom gezellig langs. Jan Groot en Ton Langedijk zijn aanwezig om uw defecte apparaten weer tot leven te wekken !!
URL:https://dorpshuisdehoeksteen.nl/evenement/inloopochtend-en-repair-cafe-dorpshuis-de-hoeksteen-44/
LOCATION:Kantine Schermeerruiters\, Dres 35\, Stompetoren\, 1841EB\, Netherlands
CATEGORIES:Agenda voor Dorpshuis
END:VEVENT
BEGIN:VEVENT
DTSTART;TZID=Europe/Amsterdam:20251103T193000
DTEND;TZID=Europe/Amsterdam:20251103T223000
DTSTAMP:20260422T002941
CREATED:20241024T211713Z
LAST-MODIFIED:20250517T194611Z
UID:4683-1762198200-1762209000@dorpshuisdehoeksteen.nl
SUMMARY:Biljarten competitie (maandagavond)
DESCRIPTION:
URL:https://dorpshuisdehoeksteen.nl/evenement/biljarten-competitie-maandagavond-102/
LOCATION:Sporting S\, Oostmijzerdijk 4\, Schermerhorn\, 1636WC\, Netherlands
CATEGORIES:Agenda voor Dorpshuis
END:VEVENT
BEGIN:VEVENT
DTSTART;TZID=Europe/Amsterdam:20251103T200000
DTEND;TZID=Europe/Amsterdam:20251103T210000
DTSTAMP:20260422T002941
CREATED:20251103T121359Z
LAST-MODIFIED:20251103T121359Z
UID:6149-1762200000-1762203600@dorpshuisdehoeksteen.nl
SUMMARY:Vergadering 't Honk (Halloween)
DESCRIPTION:
URL:https://dorpshuisdehoeksteen.nl/evenement/vergadering-t-honk-halloween/
LOCATION:Kantine Schermeerruiters\, Dres 35\, Stompetoren\, 1841EB\, Netherlands
CATEGORIES:Agenda voor Dorpshuis,Agenda voor verenigingen,Besloten
END:VEVENT
END:VCALENDAR