BEGIN:VCALENDAR
VERSION:2.0
PRODID:-//Dorpshuis de Hoeksteen - ECPv6.15.20//NONSGML v1.0//EN
CALSCALE:GREGORIAN
METHOD:PUBLISH
X-ORIGINAL-URL:https://dorpshuisdehoeksteen.nl
X-WR-CALDESC:Evenementen voor Dorpshuis de Hoeksteen
REFRESH-INTERVAL;VALUE=DURATION:PT1H
X-Robots-Tag:noindex
X-PUBLISHED-TTL:PT1H
BEGIN:VTIMEZONE
TZID:Europe/Amsterdam
BEGIN:DAYLIGHT
TZOFFSETFROM:+0100
TZOFFSETTO:+0200
TZNAME:CEST
DTSTART:20240331T010000
END:DAYLIGHT
BEGIN:STANDARD
TZOFFSETFROM:+0200
TZOFFSETTO:+0100
TZNAME:CET
DTSTART:20241027T010000
END:STANDARD
BEGIN:DAYLIGHT
TZOFFSETFROM:+0100
TZOFFSETTO:+0200
TZNAME:CEST
DTSTART:20250330T010000
END:DAYLIGHT
BEGIN:STANDARD
TZOFFSETFROM:+0200
TZOFFSETTO:+0100
TZNAME:CET
DTSTART:20251026T010000
END:STANDARD
BEGIN:DAYLIGHT
TZOFFSETFROM:+0100
TZOFFSETTO:+0200
TZNAME:CEST
DTSTART:20260329T010000
END:DAYLIGHT
BEGIN:STANDARD
TZOFFSETFROM:+0200
TZOFFSETTO:+0100
TZNAME:CET
DTSTART:20261025T010000
END:STANDARD
END:VTIMEZONE
BEGIN:VEVENT
DTSTART;TZID=Europe/Amsterdam:20251218T100000
DTEND;TZID=Europe/Amsterdam:20251218T120000
DTSTAMP:20260422T194145
CREATED:20241024T201832Z
LAST-MODIFIED:20241024T201832Z
UID:4588-1766052000-1766059200@dorpshuisdehoeksteen.nl
SUMMARY:Handwerk ochtend
DESCRIPTION:Heb je zin in een gezellige ochtend samen handwerken dan ben je van harte welkom.
URL:https://dorpshuisdehoeksteen.nl/evenement/handwerk-ochtend-136/
LOCATION:Speelzaal ruimte
CATEGORIES:Agenda voor Dorpshuis
END:VEVENT
BEGIN:VEVENT
DTSTART;TZID=Europe/Amsterdam:20251218T133000
DTEND;TZID=Europe/Amsterdam:20251218T163000
DTSTAMP:20260422T194145
CREATED:20241024T212115Z
LAST-MODIFIED:20250517T195038Z
UID:4767-1766064600-1766075400@dorpshuisdehoeksteen.nl
SUMMARY:Biljarten competitie (donderdagmiddag)
DESCRIPTION:
URL:https://dorpshuisdehoeksteen.nl/evenement/biljarten-competitie-donderdagmiddag-114/
LOCATION:Thuis bij J. van Dam\, Morgen 5\, Stompetoren\, 1841ED\, Netherlands
CATEGORIES:Agenda voor Dorpshuis
END:VEVENT
BEGIN:VEVENT
DTSTART;TZID=Europe/Amsterdam:20251218T140000
DTEND;TZID=Europe/Amsterdam:20251218T160000
DTSTAMP:20260422T194145
CREATED:20251010T070604Z
LAST-MODIFIED:20251102T145636Z
UID:6104-1766066400-1766073600@dorpshuisdehoeksteen.nl
SUMMARY:Workshop kerststukjes maken (3)
DESCRIPTION:
URL:https://dorpshuisdehoeksteen.nl/evenement/workshop-kerststukjes-maken-3/
LOCATION:Kantine Schermeerruiters\, Dres 35\, Stompetoren\, 1841EB\, Netherlands
CATEGORIES:Agenda voor Dorpshuis,Besloten
END:VEVENT
END:VCALENDAR