BEGIN:VCALENDAR
VERSION:2.0
PRODID:-//Dorpshuis de Hoeksteen - ECPv6.15.20//NONSGML v1.0//EN
CALSCALE:GREGORIAN
METHOD:PUBLISH
X-WR-CALNAME:Dorpshuis de Hoeksteen
X-ORIGINAL-URL:https://dorpshuisdehoeksteen.nl
X-WR-CALDESC:Evenementen voor Dorpshuis de Hoeksteen
REFRESH-INTERVAL;VALUE=DURATION:PT1H
X-Robots-Tag:noindex
X-PUBLISHED-TTL:PT1H
BEGIN:VTIMEZONE
TZID:Europe/Amsterdam
BEGIN:DAYLIGHT
TZOFFSETFROM:+0100
TZOFFSETTO:+0200
TZNAME:CEST
DTSTART:20220327T010000
END:DAYLIGHT
BEGIN:STANDARD
TZOFFSETFROM:+0200
TZOFFSETTO:+0100
TZNAME:CET
DTSTART:20221030T010000
END:STANDARD
BEGIN:DAYLIGHT
TZOFFSETFROM:+0100
TZOFFSETTO:+0200
TZNAME:CEST
DTSTART:20230326T010000
END:DAYLIGHT
BEGIN:STANDARD
TZOFFSETFROM:+0200
TZOFFSETTO:+0100
TZNAME:CET
DTSTART:20231029T010000
END:STANDARD
BEGIN:DAYLIGHT
TZOFFSETFROM:+0100
TZOFFSETTO:+0200
TZNAME:CEST
DTSTART:20240331T010000
END:DAYLIGHT
BEGIN:STANDARD
TZOFFSETFROM:+0200
TZOFFSETTO:+0100
TZNAME:CET
DTSTART:20241027T010000
END:STANDARD
END:VTIMEZONE
BEGIN:VEVENT
DTSTART;TZID=Europe/Amsterdam:20230925T193000
DTEND;TZID=Europe/Amsterdam:20230925T223000
DTSTAMP:20260425T122939
CREATED:20230101T124316Z
LAST-MODIFIED:20230101T151340Z
UID:2039-1695670200-1695681000@dorpshuisdehoeksteen.nl
SUMMARY:Biljarten competitie (maandagavond)
DESCRIPTION:
URL:https://dorpshuisdehoeksteen.nl/evenement/biljarten-competitie-maandagavond-26/
LOCATION:Speelzaal ruimte
CATEGORIES:Agenda voor Dorpshuis,Besloten
END:VEVENT
BEGIN:VEVENT
DTSTART;TZID=Europe/Amsterdam:20230926T193000
DTEND;TZID=Europe/Amsterdam:20230926T223000
DTSTAMP:20260425T122939
CREATED:20230101T134413Z
LAST-MODIFIED:20230101T143928Z
UID:2077-1695756600-1695767400@dorpshuisdehoeksteen.nl
SUMMARY:Biljarten competitie (dinsdagavond)
DESCRIPTION:
URL:https://dorpshuisdehoeksteen.nl/evenement/biljarten-competitie-dinsdagavond-26/
LOCATION:Speelzaal ruimte
CATEGORIES:Agenda voor Dorpshuis,Besloten
END:VEVENT
BEGIN:VEVENT
DTSTART;TZID=Europe/Amsterdam:20230927T193000
DTEND;TZID=Europe/Amsterdam:20230927T203000
DTSTAMP:20260425T122939
CREATED:20221231T140444Z
LAST-MODIFIED:20221231T142229Z
UID:1884-1695843000-1695846600@dorpshuisdehoeksteen.nl
SUMMARY:Kickboks zaktraining
DESCRIPTION:
URL:https://dorpshuisdehoeksteen.nl/evenement/kickboks-zaktraining-39/
LOCATION:Zwembad ruimte
CATEGORIES:Agenda voor Dorpshuis,Besloten
END:VEVENT
BEGIN:VEVENT
DTSTART;TZID=Europe/Amsterdam:20230928T133000
DTEND;TZID=Europe/Amsterdam:20230928T163000
DTSTAMP:20260425T122939
CREATED:20230101T134608Z
LAST-MODIFIED:20230101T140337Z
UID:2114-1695907800-1695918600@dorpshuisdehoeksteen.nl
SUMMARY:Biljarten competitie (donderdagmiddag)
DESCRIPTION:
URL:https://dorpshuisdehoeksteen.nl/evenement/biljarten-competitie-donderdagmiddag-32/
LOCATION:Speelzaal ruimte
CATEGORIES:Agenda voor Dorpshuis,Besloten
END:VEVENT
BEGIN:VEVENT
DTSTART;TZID=Europe/Amsterdam:20230928T200000
DTEND;TZID=Europe/Amsterdam:20230928T213000
DTSTAMP:20260425T122939
CREATED:20230905T073215Z
LAST-MODIFIED:20230905T073525Z
UID:2748-1695931200-1695936600@dorpshuisdehoeksteen.nl
SUMMARY:Vergadering Dorpsraad
DESCRIPTION:
URL:https://dorpshuisdehoeksteen.nl/evenement/vergadering-dorpsraad-27/
LOCATION:Speelzaal ruimte
CATEGORIES:Agenda voor Dorpshuis,Besloten
END:VEVENT
BEGIN:VEVENT
DTSTART;TZID=Europe/Amsterdam:20231002T193000
DTEND;TZID=Europe/Amsterdam:20231002T223000
DTSTAMP:20260425T122939
CREATED:20230101T124317Z
LAST-MODIFIED:20230101T151325Z
UID:2040-1696275000-1696285800@dorpshuisdehoeksteen.nl
SUMMARY:Biljarten competitie (maandagavond)
DESCRIPTION:
URL:https://dorpshuisdehoeksteen.nl/evenement/biljarten-competitie-maandagavond-27/
LOCATION:Speelzaal ruimte
CATEGORIES:Agenda voor Dorpshuis,Besloten
END:VEVENT
BEGIN:VEVENT
DTSTART;TZID=Europe/Amsterdam:20231003T193000
DTEND;TZID=Europe/Amsterdam:20231003T223000
DTSTAMP:20260425T122939
CREATED:20230101T134414Z
LAST-MODIFIED:20230101T143919Z
UID:2078-1696361400-1696372200@dorpshuisdehoeksteen.nl
SUMMARY:Biljarten competitie (dinsdagavond)
DESCRIPTION:
URL:https://dorpshuisdehoeksteen.nl/evenement/biljarten-competitie-dinsdagavond-27/
LOCATION:Speelzaal ruimte
CATEGORIES:Agenda voor Dorpshuis,Besloten
END:VEVENT
BEGIN:VEVENT
DTSTART;TZID=Europe/Amsterdam:20231004T133000
DTEND;TZID=Europe/Amsterdam:20231004T153000
DTSTAMP:20260425T122939
CREATED:20230111T220007Z
LAST-MODIFIED:20230111T220108Z
UID:2329-1696426200-1696433400@dorpshuisdehoeksteen.nl
SUMMARY:Werkoverleg Wonen bij September (Wittenburg)
DESCRIPTION:
URL:https://dorpshuisdehoeksteen.nl/evenement/werkoverleg-wonen-bij-september-wittenburg-18/
LOCATION:Speelzaal ruimte
CATEGORIES:Agenda voor Dorpshuis,Besloten
END:VEVENT
BEGIN:VEVENT
DTSTART;TZID=Europe/Amsterdam:20231004T193000
DTEND;TZID=Europe/Amsterdam:20231004T203000
DTSTAMP:20260425T122939
CREATED:20221231T140445Z
LAST-MODIFIED:20221231T142220Z
UID:1885-1696447800-1696451400@dorpshuisdehoeksteen.nl
SUMMARY:Kickboks zaktraining
DESCRIPTION:
URL:https://dorpshuisdehoeksteen.nl/evenement/kickboks-zaktraining-40/
LOCATION:Zwembad ruimte
CATEGORIES:Agenda voor Dorpshuis,Besloten
END:VEVENT
BEGIN:VEVENT
DTSTART;TZID=Europe/Amsterdam:20231005T133000
DTEND;TZID=Europe/Amsterdam:20231005T163000
DTSTAMP:20260425T122939
CREATED:20230101T134608Z
LAST-MODIFIED:20230101T140305Z
UID:2115-1696512600-1696523400@dorpshuisdehoeksteen.nl
SUMMARY:Biljarten competitie (donderdagmiddag)
DESCRIPTION:
URL:https://dorpshuisdehoeksteen.nl/evenement/biljarten-competitie-donderdagmiddag-33/
LOCATION:Speelzaal ruimte
CATEGORIES:Agenda voor Dorpshuis,Besloten
END:VEVENT
BEGIN:VEVENT
DTSTART;TZID=Europe/Amsterdam:20231009T193000
DTEND;TZID=Europe/Amsterdam:20231009T223000
DTSTAMP:20260425T122939
CREATED:20230101T124317Z
LAST-MODIFIED:20230101T151313Z
UID:2041-1696879800-1696890600@dorpshuisdehoeksteen.nl
SUMMARY:Biljarten competitie (maandagavond)
DESCRIPTION:
URL:https://dorpshuisdehoeksteen.nl/evenement/biljarten-competitie-maandagavond-28/
LOCATION:Speelzaal ruimte
CATEGORIES:Agenda voor Dorpshuis,Besloten
END:VEVENT
BEGIN:VEVENT
DTSTART;TZID=Europe/Amsterdam:20231010T193000
DTEND;TZID=Europe/Amsterdam:20231010T223000
DTSTAMP:20260425T122939
CREATED:20230101T134423Z
LAST-MODIFIED:20230101T143837Z
UID:2079-1696966200-1696977000@dorpshuisdehoeksteen.nl
SUMMARY:Biljarten competitie (dinsdagavond)
DESCRIPTION:
URL:https://dorpshuisdehoeksteen.nl/evenement/biljarten-competitie-dinsdagavond-28/
LOCATION:Speelzaal ruimte
CATEGORIES:Agenda voor Dorpshuis,Besloten
END:VEVENT
BEGIN:VEVENT
DTSTART;TZID=Europe/Amsterdam:20231011T193000
DTEND;TZID=Europe/Amsterdam:20231011T203000
DTSTAMP:20260425T122939
CREATED:20221231T140459Z
LAST-MODIFIED:20221231T142213Z
UID:1886-1697052600-1697056200@dorpshuisdehoeksteen.nl
SUMMARY:Kickboks zaktraining
DESCRIPTION:
URL:https://dorpshuisdehoeksteen.nl/evenement/kickboks-zaktraining-41/
LOCATION:Zwembad ruimte
CATEGORIES:Agenda voor Dorpshuis,Besloten
END:VEVENT
BEGIN:VEVENT
DTSTART;TZID=Europe/Amsterdam:20231011T193000
DTEND;TZID=Europe/Amsterdam:20231011T213000
DTSTAMP:20260425T122939
CREATED:20221231T161337Z
LAST-MODIFIED:20221231T161530Z
UID:1997-1697052600-1697059800@dorpshuisdehoeksteen.nl
SUMMARY:Vergadering Dorpshuis de Hoeksteen
DESCRIPTION:
URL:https://dorpshuisdehoeksteen.nl/evenement/vergadering-dorpshuis-de-hoeksteen-38/
LOCATION:Speelzaal ruimte
CATEGORIES:Agenda voor Dorpshuis,Besloten
END:VEVENT
BEGIN:VEVENT
DTSTART;TZID=Europe/Amsterdam:20231012T133000
DTEND;TZID=Europe/Amsterdam:20231012T163000
DTSTAMP:20260425T122939
CREATED:20230101T134609Z
LAST-MODIFIED:20230101T140251Z
UID:2116-1697117400-1697128200@dorpshuisdehoeksteen.nl
SUMMARY:Biljarten competitie (donderdagmiddag)
DESCRIPTION:
URL:https://dorpshuisdehoeksteen.nl/evenement/biljarten-competitie-donderdagmiddag-34/
LOCATION:Speelzaal ruimte
CATEGORIES:Agenda voor Dorpshuis,Besloten
END:VEVENT
BEGIN:VEVENT
DTSTART;TZID=Europe/Amsterdam:20231012T190000
DTEND;TZID=Europe/Amsterdam:20231012T230000
DTSTAMP:20260425T122939
CREATED:20230927T172755Z
LAST-MODIFIED:20230927T174726Z
UID:2908-1697137200-1697151600@dorpshuisdehoeksteen.nl
SUMMARY:Reanimatie cursus
DESCRIPTION:Kan jij al reanimeren? Zo niet\, of is je certificaat verlopen\, doe dan mee met onze reanimatiecursus!\n\n\nWanneer? Donderdag 12 oktober van 19:00 tot 22:30/23:00 (afhankelijk van de grootte van de groep).\nDeelnamekosten: tussen de 35 en 40 euro\, ook dit is afhankelijk van de grootte van de groep) inclusief officieel certificaat van de Nederlandse Reanimatie Raad.\n\n\nMax. 12 deelnemers\, bij meer aanmeldingen gaan we een extra avond of avonden organiseren.\n.\nGeef je op via het contactformulier!
URL:https://dorpshuisdehoeksteen.nl/evenement/reanimatie/
LOCATION:Zwembad ruimte
CATEGORIES:Agenda voor Dorpshuis,Besloten
END:VEVENT
BEGIN:VEVENT
DTSTART;TZID=Europe/Amsterdam:20231016T193000
DTEND;TZID=Europe/Amsterdam:20231016T223000
DTSTAMP:20260425T122939
CREATED:20230101T124317Z
LAST-MODIFIED:20230101T151301Z
UID:2042-1697484600-1697495400@dorpshuisdehoeksteen.nl
SUMMARY:Biljarten competitie (maandagavond)
DESCRIPTION:
URL:https://dorpshuisdehoeksteen.nl/evenement/biljarten-competitie-maandagavond-29/
LOCATION:Speelzaal ruimte
CATEGORIES:Agenda voor Dorpshuis,Besloten
END:VEVENT
BEGIN:VEVENT
DTSTART;TZID=Europe/Amsterdam:20231016T200000
DTEND;TZID=Europe/Amsterdam:20231016T220000
DTSTAMP:20260425T122939
CREATED:20231013T071321Z
LAST-MODIFIED:20231013T071321Z
UID:2978-1697486400-1697493600@dorpshuisdehoeksteen.nl
SUMMARY:Vergadering Dorpsraad
DESCRIPTION:
URL:https://dorpshuisdehoeksteen.nl/evenement/vergadering-dorpsraad-28/
LOCATION:Zwembad ruimte
CATEGORIES:Agenda voor Dorpshuis,Besloten
END:VEVENT
BEGIN:VEVENT
DTSTART;TZID=Europe/Amsterdam:20231017T193000
DTEND;TZID=Europe/Amsterdam:20231017T223000
DTSTAMP:20260425T122939
CREATED:20230101T134423Z
LAST-MODIFIED:20230101T143823Z
UID:2080-1697571000-1697581800@dorpshuisdehoeksteen.nl
SUMMARY:Biljarten competitie (dinsdagavond)
DESCRIPTION:
URL:https://dorpshuisdehoeksteen.nl/evenement/biljarten-competitie-dinsdagavond-29/
LOCATION:Speelzaal ruimte
CATEGORIES:Agenda voor Dorpshuis,Besloten
END:VEVENT
BEGIN:VEVENT
DTSTART;TZID=Europe/Amsterdam:20231018T193000
DTEND;TZID=Europe/Amsterdam:20231018T203000
DTSTAMP:20260425T122939
CREATED:20221231T140459Z
LAST-MODIFIED:20221231T142158Z
UID:1887-1697657400-1697661000@dorpshuisdehoeksteen.nl
SUMMARY:Kickboks zaktraining
DESCRIPTION:
URL:https://dorpshuisdehoeksteen.nl/evenement/kickboks-zaktraining-42/
LOCATION:Zwembad ruimte
CATEGORIES:Agenda voor Dorpshuis,Besloten
END:VEVENT
BEGIN:VEVENT
DTSTART;TZID=Europe/Amsterdam:20231019T133000
DTEND;TZID=Europe/Amsterdam:20231019T163000
DTSTAMP:20260425T122939
CREATED:20230101T134609Z
LAST-MODIFIED:20230101T140241Z
UID:2117-1697722200-1697733000@dorpshuisdehoeksteen.nl
SUMMARY:Biljarten competitie (donderdagmiddag)
DESCRIPTION:
URL:https://dorpshuisdehoeksteen.nl/evenement/biljarten-competitie-donderdagmiddag-35/
LOCATION:Speelzaal ruimte
CATEGORIES:Agenda voor Dorpshuis,Besloten
END:VEVENT
BEGIN:VEVENT
DTSTART;TZID=Europe/Amsterdam:20231023T193000
DTEND;TZID=Europe/Amsterdam:20231023T223000
DTSTAMP:20260425T122939
CREATED:20230101T124317Z
LAST-MODIFIED:20230101T151252Z
UID:2043-1698089400-1698100200@dorpshuisdehoeksteen.nl
SUMMARY:Biljarten competitie (maandagavond)
DESCRIPTION:
URL:https://dorpshuisdehoeksteen.nl/evenement/biljarten-competitie-maandagavond-30/
LOCATION:Speelzaal ruimte
CATEGORIES:Agenda voor Dorpshuis,Besloten
END:VEVENT
BEGIN:VEVENT
DTSTART;TZID=Europe/Amsterdam:20231024T193000
DTEND;TZID=Europe/Amsterdam:20231024T223000
DTSTAMP:20260425T122939
CREATED:20230101T134424Z
LAST-MODIFIED:20230101T143812Z
UID:2081-1698175800-1698186600@dorpshuisdehoeksteen.nl
SUMMARY:Biljarten competitie (dinsdagavond)
DESCRIPTION:
URL:https://dorpshuisdehoeksteen.nl/evenement/biljarten-competitie-dinsdagavond-30/
LOCATION:Speelzaal ruimte
CATEGORIES:Agenda voor Dorpshuis,Besloten
END:VEVENT
BEGIN:VEVENT
DTSTART;TZID=Europe/Amsterdam:20231025T193000
DTEND;TZID=Europe/Amsterdam:20231025T203000
DTSTAMP:20260425T122939
CREATED:20221231T140459Z
LAST-MODIFIED:20221231T142205Z
UID:1888-1698262200-1698265800@dorpshuisdehoeksteen.nl
SUMMARY:Kickboks zaktraining
DESCRIPTION:
URL:https://dorpshuisdehoeksteen.nl/evenement/kickboks-zaktraining-43/
LOCATION:Zwembad ruimte
CATEGORIES:Agenda voor Dorpshuis,Besloten
END:VEVENT
BEGIN:VEVENT
DTSTART;TZID=Europe/Amsterdam:20231026T133000
DTEND;TZID=Europe/Amsterdam:20231026T163000
DTSTAMP:20260425T122939
CREATED:20230101T134609Z
LAST-MODIFIED:20230101T140150Z
UID:2118-1698327000-1698337800@dorpshuisdehoeksteen.nl
SUMMARY:Biljarten competitie (donderdagmiddag)
DESCRIPTION:
URL:https://dorpshuisdehoeksteen.nl/evenement/biljarten-competitie-donderdagmiddag-36/
LOCATION:Speelzaal ruimte
CATEGORIES:Agenda voor Dorpshuis,Besloten
END:VEVENT
BEGIN:VEVENT
DTSTART;TZID=Europe/Amsterdam:20231030T193000
DTEND;TZID=Europe/Amsterdam:20231030T223000
DTSTAMP:20260425T122939
CREATED:20230101T124331Z
LAST-MODIFIED:20230101T151240Z
UID:2044-1698694200-1698705000@dorpshuisdehoeksteen.nl
SUMMARY:Biljarten competitie (maandagavond)
DESCRIPTION:
URL:https://dorpshuisdehoeksteen.nl/evenement/biljarten-competitie-maandagavond-31/
LOCATION:Speelzaal ruimte
CATEGORIES:Agenda voor Dorpshuis,Besloten
END:VEVENT
BEGIN:VEVENT
DTSTART;TZID=Europe/Amsterdam:20231030T200000
DTEND;TZID=Europe/Amsterdam:20231030T220000
DTSTAMP:20260425T122939
CREATED:20231024T101743Z
LAST-MODIFIED:20231024T101743Z
UID:3014-1698696000-1698703200@dorpshuisdehoeksteen.nl
SUMMARY:Vergadering Carnavalsvereniging Stompestampers
DESCRIPTION:
URL:https://dorpshuisdehoeksteen.nl/evenement/vergadering-carnavalsvereniging-stompestampers/
LOCATION:Zwembad ruimte
CATEGORIES:Agenda voor Dorpshuis,Besloten
END:VEVENT
BEGIN:VEVENT
DTSTART;TZID=Europe/Amsterdam:20231031T193000
DTEND;TZID=Europe/Amsterdam:20231031T223000
DTSTAMP:20260425T122939
CREATED:20230101T134424Z
LAST-MODIFIED:20230101T143739Z
UID:2082-1698780600-1698791400@dorpshuisdehoeksteen.nl
SUMMARY:Biljarten competitie (dinsdagavond)
DESCRIPTION:
URL:https://dorpshuisdehoeksteen.nl/evenement/biljarten-competitie-dinsdagavond-31/
LOCATION:Speelzaal ruimte
CATEGORIES:Agenda voor Dorpshuis,Besloten
END:VEVENT
BEGIN:VEVENT
DTSTART;TZID=Europe/Amsterdam:20231101T193000
DTEND;TZID=Europe/Amsterdam:20231101T203000
DTSTAMP:20260425T122939
CREATED:20221231T140500Z
LAST-MODIFIED:20221231T142150Z
UID:1889-1698867000-1698870600@dorpshuisdehoeksteen.nl
SUMMARY:Kickboks zaktraining
DESCRIPTION:
URL:https://dorpshuisdehoeksteen.nl/evenement/kickboks-zaktraining-44/
LOCATION:Zwembad ruimte
CATEGORIES:Agenda voor Dorpshuis,Besloten
END:VEVENT
BEGIN:VEVENT
DTSTART;TZID=Europe/Amsterdam:20231102T133000
DTEND;TZID=Europe/Amsterdam:20231102T163000
DTSTAMP:20260425T122939
CREATED:20230101T134623Z
LAST-MODIFIED:20230101T140140Z
UID:2119-1698931800-1698942600@dorpshuisdehoeksteen.nl
SUMMARY:Biljarten competitie (donderdagmiddag)
DESCRIPTION:
URL:https://dorpshuisdehoeksteen.nl/evenement/biljarten-competitie-donderdagmiddag-37/
LOCATION:Speelzaal ruimte
CATEGORIES:Agenda voor Dorpshuis,Besloten
END:VEVENT
END:VCALENDAR