BEGIN:VCALENDAR
VERSION:2.0
PRODID:-//Dorpshuis de Hoeksteen - ECPv6.15.20//NONSGML v1.0//EN
CALSCALE:GREGORIAN
METHOD:PUBLISH
X-WR-CALNAME:Dorpshuis de Hoeksteen
X-ORIGINAL-URL:https://dorpshuisdehoeksteen.nl
X-WR-CALDESC:Evenementen voor Dorpshuis de Hoeksteen
REFRESH-INTERVAL;VALUE=DURATION:PT1H
X-Robots-Tag:noindex
X-PUBLISHED-TTL:PT1H
BEGIN:VTIMEZONE
TZID:Europe/Amsterdam
BEGIN:DAYLIGHT
TZOFFSETFROM:+0100
TZOFFSETTO:+0200
TZNAME:CEST
DTSTART:20220327T010000
END:DAYLIGHT
BEGIN:STANDARD
TZOFFSETFROM:+0200
TZOFFSETTO:+0100
TZNAME:CET
DTSTART:20221030T010000
END:STANDARD
BEGIN:DAYLIGHT
TZOFFSETFROM:+0100
TZOFFSETTO:+0200
TZNAME:CEST
DTSTART:20230326T010000
END:DAYLIGHT
BEGIN:STANDARD
TZOFFSETFROM:+0200
TZOFFSETTO:+0100
TZNAME:CET
DTSTART:20231029T010000
END:STANDARD
BEGIN:DAYLIGHT
TZOFFSETFROM:+0100
TZOFFSETTO:+0200
TZNAME:CEST
DTSTART:20240331T010000
END:DAYLIGHT
BEGIN:STANDARD
TZOFFSETFROM:+0200
TZOFFSETTO:+0100
TZNAME:CET
DTSTART:20241027T010000
END:STANDARD
END:VTIMEZONE
BEGIN:VEVENT
DTSTART;TZID=Europe/Amsterdam:20231016T193000
DTEND;TZID=Europe/Amsterdam:20231016T223000
DTSTAMP:20260424T184006
CREATED:20230101T124317Z
LAST-MODIFIED:20230101T151301Z
UID:2042-1697484600-1697495400@dorpshuisdehoeksteen.nl
SUMMARY:Biljarten competitie (maandagavond)
DESCRIPTION:
URL:https://dorpshuisdehoeksteen.nl/evenement/biljarten-competitie-maandagavond-29/
LOCATION:Speelzaal ruimte
CATEGORIES:Agenda voor Dorpshuis,Besloten
END:VEVENT
BEGIN:VEVENT
DTSTART;TZID=Europe/Amsterdam:20231016T200000
DTEND;TZID=Europe/Amsterdam:20231016T220000
DTSTAMP:20260424T184006
CREATED:20231013T071321Z
LAST-MODIFIED:20231013T071321Z
UID:2978-1697486400-1697493600@dorpshuisdehoeksteen.nl
SUMMARY:Vergadering Dorpsraad
DESCRIPTION:
URL:https://dorpshuisdehoeksteen.nl/evenement/vergadering-dorpsraad-28/
LOCATION:Zwembad ruimte
CATEGORIES:Agenda voor Dorpshuis,Besloten
END:VEVENT
BEGIN:VEVENT
DTSTART;TZID=Europe/Amsterdam:20231017T193000
DTEND;TZID=Europe/Amsterdam:20231017T223000
DTSTAMP:20260424T184006
CREATED:20230101T134423Z
LAST-MODIFIED:20230101T143823Z
UID:2080-1697571000-1697581800@dorpshuisdehoeksteen.nl
SUMMARY:Biljarten competitie (dinsdagavond)
DESCRIPTION:
URL:https://dorpshuisdehoeksteen.nl/evenement/biljarten-competitie-dinsdagavond-29/
LOCATION:Speelzaal ruimte
CATEGORIES:Agenda voor Dorpshuis,Besloten
END:VEVENT
BEGIN:VEVENT
DTSTART;TZID=Europe/Amsterdam:20231018T193000
DTEND;TZID=Europe/Amsterdam:20231018T203000
DTSTAMP:20260424T184006
CREATED:20221231T140459Z
LAST-MODIFIED:20221231T142158Z
UID:1887-1697657400-1697661000@dorpshuisdehoeksteen.nl
SUMMARY:Kickboks zaktraining
DESCRIPTION:
URL:https://dorpshuisdehoeksteen.nl/evenement/kickboks-zaktraining-42/
LOCATION:Zwembad ruimte
CATEGORIES:Agenda voor Dorpshuis,Besloten
END:VEVENT
BEGIN:VEVENT
DTSTART;TZID=Europe/Amsterdam:20231019T133000
DTEND;TZID=Europe/Amsterdam:20231019T163000
DTSTAMP:20260424T184006
CREATED:20230101T134609Z
LAST-MODIFIED:20230101T140241Z
UID:2117-1697722200-1697733000@dorpshuisdehoeksteen.nl
SUMMARY:Biljarten competitie (donderdagmiddag)
DESCRIPTION:
URL:https://dorpshuisdehoeksteen.nl/evenement/biljarten-competitie-donderdagmiddag-35/
LOCATION:Speelzaal ruimte
CATEGORIES:Agenda voor Dorpshuis,Besloten
END:VEVENT
BEGIN:VEVENT
DTSTART;TZID=Europe/Amsterdam:20231023T193000
DTEND;TZID=Europe/Amsterdam:20231023T223000
DTSTAMP:20260424T184006
CREATED:20230101T124317Z
LAST-MODIFIED:20230101T151252Z
UID:2043-1698089400-1698100200@dorpshuisdehoeksteen.nl
SUMMARY:Biljarten competitie (maandagavond)
DESCRIPTION:
URL:https://dorpshuisdehoeksteen.nl/evenement/biljarten-competitie-maandagavond-30/
LOCATION:Speelzaal ruimte
CATEGORIES:Agenda voor Dorpshuis,Besloten
END:VEVENT
BEGIN:VEVENT
DTSTART;TZID=Europe/Amsterdam:20231024T193000
DTEND;TZID=Europe/Amsterdam:20231024T223000
DTSTAMP:20260424T184006
CREATED:20230101T134424Z
LAST-MODIFIED:20230101T143812Z
UID:2081-1698175800-1698186600@dorpshuisdehoeksteen.nl
SUMMARY:Biljarten competitie (dinsdagavond)
DESCRIPTION:
URL:https://dorpshuisdehoeksteen.nl/evenement/biljarten-competitie-dinsdagavond-30/
LOCATION:Speelzaal ruimte
CATEGORIES:Agenda voor Dorpshuis,Besloten
END:VEVENT
BEGIN:VEVENT
DTSTART;TZID=Europe/Amsterdam:20231025T193000
DTEND;TZID=Europe/Amsterdam:20231025T203000
DTSTAMP:20260424T184006
CREATED:20221231T140459Z
LAST-MODIFIED:20221231T142205Z
UID:1888-1698262200-1698265800@dorpshuisdehoeksteen.nl
SUMMARY:Kickboks zaktraining
DESCRIPTION:
URL:https://dorpshuisdehoeksteen.nl/evenement/kickboks-zaktraining-43/
LOCATION:Zwembad ruimte
CATEGORIES:Agenda voor Dorpshuis,Besloten
END:VEVENT
BEGIN:VEVENT
DTSTART;TZID=Europe/Amsterdam:20231026T133000
DTEND;TZID=Europe/Amsterdam:20231026T163000
DTSTAMP:20260424T184006
CREATED:20230101T134609Z
LAST-MODIFIED:20230101T140150Z
UID:2118-1698327000-1698337800@dorpshuisdehoeksteen.nl
SUMMARY:Biljarten competitie (donderdagmiddag)
DESCRIPTION:
URL:https://dorpshuisdehoeksteen.nl/evenement/biljarten-competitie-donderdagmiddag-36/
LOCATION:Speelzaal ruimte
CATEGORIES:Agenda voor Dorpshuis,Besloten
END:VEVENT
BEGIN:VEVENT
DTSTART;TZID=Europe/Amsterdam:20231030T193000
DTEND;TZID=Europe/Amsterdam:20231030T223000
DTSTAMP:20260424T184006
CREATED:20230101T124331Z
LAST-MODIFIED:20230101T151240Z
UID:2044-1698694200-1698705000@dorpshuisdehoeksteen.nl
SUMMARY:Biljarten competitie (maandagavond)
DESCRIPTION:
URL:https://dorpshuisdehoeksteen.nl/evenement/biljarten-competitie-maandagavond-31/
LOCATION:Speelzaal ruimte
CATEGORIES:Agenda voor Dorpshuis,Besloten
END:VEVENT
BEGIN:VEVENT
DTSTART;TZID=Europe/Amsterdam:20231030T200000
DTEND;TZID=Europe/Amsterdam:20231030T220000
DTSTAMP:20260424T184006
CREATED:20231024T101743Z
LAST-MODIFIED:20231024T101743Z
UID:3014-1698696000-1698703200@dorpshuisdehoeksteen.nl
SUMMARY:Vergadering Carnavalsvereniging Stompestampers
DESCRIPTION:
URL:https://dorpshuisdehoeksteen.nl/evenement/vergadering-carnavalsvereniging-stompestampers/
LOCATION:Zwembad ruimte
CATEGORIES:Agenda voor Dorpshuis,Besloten
END:VEVENT
BEGIN:VEVENT
DTSTART;TZID=Europe/Amsterdam:20231031T193000
DTEND;TZID=Europe/Amsterdam:20231031T223000
DTSTAMP:20260424T184006
CREATED:20230101T134424Z
LAST-MODIFIED:20230101T143739Z
UID:2082-1698780600-1698791400@dorpshuisdehoeksteen.nl
SUMMARY:Biljarten competitie (dinsdagavond)
DESCRIPTION:
URL:https://dorpshuisdehoeksteen.nl/evenement/biljarten-competitie-dinsdagavond-31/
LOCATION:Speelzaal ruimte
CATEGORIES:Agenda voor Dorpshuis,Besloten
END:VEVENT
BEGIN:VEVENT
DTSTART;TZID=Europe/Amsterdam:20231101T193000
DTEND;TZID=Europe/Amsterdam:20231101T203000
DTSTAMP:20260424T184006
CREATED:20221231T140500Z
LAST-MODIFIED:20221231T142150Z
UID:1889-1698867000-1698870600@dorpshuisdehoeksteen.nl
SUMMARY:Kickboks zaktraining
DESCRIPTION:
URL:https://dorpshuisdehoeksteen.nl/evenement/kickboks-zaktraining-44/
LOCATION:Zwembad ruimte
CATEGORIES:Agenda voor Dorpshuis,Besloten
END:VEVENT
BEGIN:VEVENT
DTSTART;TZID=Europe/Amsterdam:20231102T133000
DTEND;TZID=Europe/Amsterdam:20231102T163000
DTSTAMP:20260424T184006
CREATED:20230101T134623Z
LAST-MODIFIED:20230101T140140Z
UID:2119-1698931800-1698942600@dorpshuisdehoeksteen.nl
SUMMARY:Biljarten competitie (donderdagmiddag)
DESCRIPTION:
URL:https://dorpshuisdehoeksteen.nl/evenement/biljarten-competitie-donderdagmiddag-37/
LOCATION:Speelzaal ruimte
CATEGORIES:Agenda voor Dorpshuis,Besloten
END:VEVENT
BEGIN:VEVENT
DTSTART;TZID=Europe/Amsterdam:20231106T133000
DTEND;TZID=Europe/Amsterdam:20231106T153000
DTSTAMP:20260424T184006
CREATED:20230111T220008Z
LAST-MODIFIED:20230111T220059Z
UID:2330-1699277400-1699284600@dorpshuisdehoeksteen.nl
SUMMARY:Werkoverleg Wonen bij September (Wittenburg)
DESCRIPTION:
URL:https://dorpshuisdehoeksteen.nl/evenement/werkoverleg-wonen-bij-september-wittenburg-19/
LOCATION:Speelzaal ruimte
CATEGORIES:Agenda voor Dorpshuis,Besloten
END:VEVENT
BEGIN:VEVENT
DTSTART;TZID=Europe/Amsterdam:20231106T193000
DTEND;TZID=Europe/Amsterdam:20231106T223000
DTSTAMP:20260424T184006
CREATED:20230101T124331Z
LAST-MODIFIED:20230101T151231Z
UID:2045-1699299000-1699309800@dorpshuisdehoeksteen.nl
SUMMARY:Biljarten competitie (maandagavond)
DESCRIPTION:
URL:https://dorpshuisdehoeksteen.nl/evenement/biljarten-competitie-maandagavond-32/
LOCATION:Speelzaal ruimte
CATEGORIES:Agenda voor Dorpshuis,Besloten
END:VEVENT
BEGIN:VEVENT
DTSTART;TZID=Europe/Amsterdam:20231107T193000
DTEND;TZID=Europe/Amsterdam:20231107T223000
DTSTAMP:20260424T184006
CREATED:20230101T134424Z
LAST-MODIFIED:20230101T143728Z
UID:2083-1699385400-1699396200@dorpshuisdehoeksteen.nl
SUMMARY:Biljarten competitie (dinsdagavond)
DESCRIPTION:
URL:https://dorpshuisdehoeksteen.nl/evenement/biljarten-competitie-dinsdagavond-32/
LOCATION:Speelzaal ruimte
CATEGORIES:Agenda voor Dorpshuis,Besloten
END:VEVENT
BEGIN:VEVENT
DTSTART;TZID=Europe/Amsterdam:20231108T090000
DTEND;TZID=Europe/Amsterdam:20231108T100000
DTSTAMP:20260424T184006
CREATED:20230905T144320Z
LAST-MODIFIED:20230905T144537Z
UID:2768-1699434000-1699437600@dorpshuisdehoeksteen.nl
SUMMARY:Sport mix training
DESCRIPTION:Bij mooi weer trainen wij buiten
URL:https://dorpshuisdehoeksteen.nl/evenement/sport-mix-training-10/
LOCATION:Zwembad ruimte binnen maar bij mooi weer buiten
CATEGORIES:Agenda voor Dorpshuis,Besloten
END:VEVENT
BEGIN:VEVENT
DTSTART;TZID=Europe/Amsterdam:20231108T193000
DTEND;TZID=Europe/Amsterdam:20231108T203000
DTSTAMP:20260424T184006
CREATED:20221231T140500Z
LAST-MODIFIED:20221231T142141Z
UID:1890-1699471800-1699475400@dorpshuisdehoeksteen.nl
SUMMARY:Kickboks zaktraining
DESCRIPTION:
URL:https://dorpshuisdehoeksteen.nl/evenement/kickboks-zaktraining-45/
LOCATION:Zwembad ruimte
CATEGORIES:Agenda voor Dorpshuis,Besloten
END:VEVENT
BEGIN:VEVENT
DTSTART;TZID=Europe/Amsterdam:20231108T193000
DTEND;TZID=Europe/Amsterdam:20231108T213000
DTSTAMP:20260424T184006
CREATED:20221231T161353Z
LAST-MODIFIED:20221231T161521Z
UID:1998-1699471800-1699479000@dorpshuisdehoeksteen.nl
SUMMARY:Vergadering Dorpshuis de Hoeksteen
DESCRIPTION:
URL:https://dorpshuisdehoeksteen.nl/evenement/vergadering-dorpshuis-de-hoeksteen-39/
LOCATION:Speelzaal ruimte
CATEGORIES:Agenda voor Dorpshuis,Besloten
END:VEVENT
BEGIN:VEVENT
DTSTART;TZID=Europe/Amsterdam:20231109T133000
DTEND;TZID=Europe/Amsterdam:20231109T163000
DTSTAMP:20260424T184006
CREATED:20230101T134623Z
LAST-MODIFIED:20230101T140117Z
UID:2120-1699536600-1699547400@dorpshuisdehoeksteen.nl
SUMMARY:Biljarten competitie (donderdagmiddag)
DESCRIPTION:
URL:https://dorpshuisdehoeksteen.nl/evenement/biljarten-competitie-donderdagmiddag-38/
LOCATION:Speelzaal ruimte
CATEGORIES:Agenda voor Dorpshuis,Besloten
END:VEVENT
BEGIN:VEVENT
DTSTART;TZID=Europe/Amsterdam:20231113T193000
DTEND;TZID=Europe/Amsterdam:20231113T223000
DTSTAMP:20260424T184006
CREATED:20230101T124331Z
LAST-MODIFIED:20230101T151222Z
UID:2046-1699903800-1699914600@dorpshuisdehoeksteen.nl
SUMMARY:Biljarten competitie (maandagavond)
DESCRIPTION:
URL:https://dorpshuisdehoeksteen.nl/evenement/biljarten-competitie-maandagavond-33/
LOCATION:Speelzaal ruimte
CATEGORIES:Agenda voor Dorpshuis,Besloten
END:VEVENT
BEGIN:VEVENT
DTSTART;TZID=Europe/Amsterdam:20231114T193000
DTEND;TZID=Europe/Amsterdam:20231114T223000
DTSTAMP:20260424T184006
CREATED:20230101T134438Z
LAST-MODIFIED:20230101T143718Z
UID:2084-1699990200-1700001000@dorpshuisdehoeksteen.nl
SUMMARY:Biljarten competitie (dinsdagavond)
DESCRIPTION:
URL:https://dorpshuisdehoeksteen.nl/evenement/biljarten-competitie-dinsdagavond-33/
LOCATION:Speelzaal ruimte
CATEGORIES:Agenda voor Dorpshuis,Besloten
END:VEVENT
BEGIN:VEVENT
DTSTART;TZID=Europe/Amsterdam:20231115T193000
DTEND;TZID=Europe/Amsterdam:20231115T203000
DTSTAMP:20260424T184006
CREATED:20221231T140513Z
LAST-MODIFIED:20221231T142132Z
UID:1891-1700076600-1700080200@dorpshuisdehoeksteen.nl
SUMMARY:Kickboks zaktraining
DESCRIPTION:
URL:https://dorpshuisdehoeksteen.nl/evenement/kickboks-zaktraining-46/
LOCATION:Zwembad ruimte
CATEGORIES:Agenda voor Dorpshuis,Besloten
END:VEVENT
BEGIN:VEVENT
DTSTART;TZID=Europe/Amsterdam:20231116T133000
DTEND;TZID=Europe/Amsterdam:20231116T163000
DTSTAMP:20260424T184006
CREATED:20230101T134624Z
LAST-MODIFIED:20230101T140057Z
UID:2121-1700141400-1700152200@dorpshuisdehoeksteen.nl
SUMMARY:Biljarten competitie (donderdagmiddag)
DESCRIPTION:
URL:https://dorpshuisdehoeksteen.nl/evenement/biljarten-competitie-donderdagmiddag-39/
LOCATION:Speelzaal ruimte
CATEGORIES:Agenda voor Dorpshuis,Besloten
END:VEVENT
BEGIN:VEVENT
DTSTART;TZID=Europe/Amsterdam:20231117T190000
DTEND;TZID=Europe/Amsterdam:20231117T210000
DTSTAMP:20260424T184006
CREATED:20230914T215429Z
LAST-MODIFIED:20231020T185904Z
UID:2864-1700247600-1700254800@dorpshuisdehoeksteen.nl
SUMMARY:Disco (Organisator: Jongerenvereniging ’t Honk)
DESCRIPTION:
URL:https://dorpshuisdehoeksteen.nl/evenement/disco-organisator-jongerenvereniging-t-honk-4/
LOCATION:Dorpshuis de Hoeksteen\, Vangstraat 2A\, STOMPETOREN\, 1841 GN\, Nederland
CATEGORIES:Agenda voor Dorpshuis,Agenda voor verenigingen,Besloten
END:VEVENT
BEGIN:VEVENT
DTSTART;TZID=Europe/Amsterdam:20231120T193000
DTEND;TZID=Europe/Amsterdam:20231120T223000
DTSTAMP:20260424T184006
CREATED:20230101T124332Z
LAST-MODIFIED:20230101T151207Z
UID:2047-1700508600-1700519400@dorpshuisdehoeksteen.nl
SUMMARY:Biljarten competitie (maandagavond)
DESCRIPTION:
URL:https://dorpshuisdehoeksteen.nl/evenement/biljarten-competitie-maandagavond-34/
LOCATION:Speelzaal ruimte
CATEGORIES:Agenda voor Dorpshuis,Besloten
END:VEVENT
BEGIN:VEVENT
DTSTART;TZID=Europe/Amsterdam:20231121T193000
DTEND;TZID=Europe/Amsterdam:20231121T213000
DTSTAMP:20260424T184006
CREATED:20231115T205130Z
LAST-MODIFIED:20231115T205130Z
UID:3068-1700595000-1700602200@dorpshuisdehoeksteen.nl
SUMMARY:Vergadering Dorpshuis de Hoeksteen
DESCRIPTION:
URL:https://dorpshuisdehoeksteen.nl/evenement/vergadering-dorpshuis-de-hoeksteen-43/
LOCATION:Zwembad ruimte
CATEGORIES:Agenda voor Dorpshuis,Besloten
END:VEVENT
BEGIN:VEVENT
DTSTART;TZID=Europe/Amsterdam:20231121T193000
DTEND;TZID=Europe/Amsterdam:20231121T223000
DTSTAMP:20260424T184006
CREATED:20230101T134438Z
LAST-MODIFIED:20230101T143706Z
UID:2085-1700595000-1700605800@dorpshuisdehoeksteen.nl
SUMMARY:Biljarten competitie (dinsdagavond)
DESCRIPTION:
URL:https://dorpshuisdehoeksteen.nl/evenement/biljarten-competitie-dinsdagavond-34/
LOCATION:Speelzaal ruimte
CATEGORIES:Agenda voor Dorpshuis,Besloten
END:VEVENT
BEGIN:VEVENT
DTSTART;TZID=Europe/Amsterdam:20231123T133000
DTEND;TZID=Europe/Amsterdam:20231123T163000
DTSTAMP:20260424T184006
CREATED:20230101T134624Z
LAST-MODIFIED:20230101T140044Z
UID:2122-1700746200-1700757000@dorpshuisdehoeksteen.nl
SUMMARY:Biljarten competitie (donderdagmiddag)
DESCRIPTION:
URL:https://dorpshuisdehoeksteen.nl/evenement/biljarten-competitie-donderdagmiddag-40/
LOCATION:Speelzaal ruimte
CATEGORIES:Agenda voor Dorpshuis,Besloten
END:VEVENT
END:VCALENDAR