BEGIN:VCALENDAR
VERSION:2.0
PRODID:-//Dorpshuis de Hoeksteen - ECPv6.15.20//NONSGML v1.0//EN
CALSCALE:GREGORIAN
METHOD:PUBLISH
X-WR-CALNAME:Dorpshuis de Hoeksteen
X-ORIGINAL-URL:https://dorpshuisdehoeksteen.nl
X-WR-CALDESC:Evenementen voor Dorpshuis de Hoeksteen
REFRESH-INTERVAL;VALUE=DURATION:PT1H
X-Robots-Tag:noindex
X-PUBLISHED-TTL:PT1H
BEGIN:VTIMEZONE
TZID:Europe/Amsterdam
BEGIN:DAYLIGHT
TZOFFSETFROM:+0100
TZOFFSETTO:+0200
TZNAME:CEST
DTSTART:20250330T010000
END:DAYLIGHT
BEGIN:STANDARD
TZOFFSETFROM:+0200
TZOFFSETTO:+0100
TZNAME:CET
DTSTART:20251026T010000
END:STANDARD
BEGIN:DAYLIGHT
TZOFFSETFROM:+0100
TZOFFSETTO:+0200
TZNAME:CEST
DTSTART:20260329T010000
END:DAYLIGHT
BEGIN:STANDARD
TZOFFSETFROM:+0200
TZOFFSETTO:+0100
TZNAME:CET
DTSTART:20261025T010000
END:STANDARD
BEGIN:DAYLIGHT
TZOFFSETFROM:+0100
TZOFFSETTO:+0200
TZNAME:CEST
DTSTART:20270328T010000
END:DAYLIGHT
BEGIN:STANDARD
TZOFFSETFROM:+0200
TZOFFSETTO:+0100
TZNAME:CET
DTSTART:20271031T010000
END:STANDARD
BEGIN:DAYLIGHT
TZOFFSETFROM:+0100
TZOFFSETTO:+0200
TZNAME:CEST
DTSTART:20280326T010000
END:DAYLIGHT
BEGIN:STANDARD
TZOFFSETFROM:+0200
TZOFFSETTO:+0100
TZNAME:CET
DTSTART:20281029T010000
END:STANDARD
END:VTIMEZONE
BEGIN:VEVENT
DTSTART;VALUE=DATE:20260425
DTEND;VALUE=DATE:20260426
DTSTAMP:20260421T174424
CREATED:20260420T125129Z
LAST-MODIFIED:20260420T125129Z
UID:7033-1777075200-1777161599@dorpshuisdehoeksteen.nl
SUMMARY:Vloer wordt opnieuw “gelakt”
DESCRIPTION:Dorpshuis gelsoten
URL:https://dorpshuisdehoeksteen.nl/evenement/vloer-wordt-opnieuw-gelakt-2/
CATEGORIES:Agenda voor Dorpshuis,Agenda voor verenigingen,Openbaar
END:VEVENT
BEGIN:VEVENT
DTSTART;TZID=Europe/Amsterdam:20260426T080000
DTEND;TZID=Europe/Amsterdam:20260426T170000
DTSTAMP:20260421T174424
CREATED:20260420T125218Z
LAST-MODIFIED:20260420T125218Z
UID:7035-1777190400-1777222800@dorpshuisdehoeksteen.nl
SUMMARY:Vloer wordt opnieuw “gelakt”
DESCRIPTION:Dorpshuis gesloten
URL:https://dorpshuisdehoeksteen.nl/evenement/vloer-wordt-opnieuw-gelakt-3/
CATEGORIES:Agenda voor Dorpshuis,Agenda voor verenigingen,Openbaar
END:VEVENT
BEGIN:VEVENT
DTSTART;VALUE=DATE:20260427
DTEND;VALUE=DATE:20260428
DTSTAMP:20260421T174424
CREATED:20260420T125317Z
LAST-MODIFIED:20260420T125317Z
UID:7037-1777248000-1777334399@dorpshuisdehoeksteen.nl
SUMMARY:Vloer wordt opnieuw “gelakt”
DESCRIPTION:Dorpshuis gesloten
URL:https://dorpshuisdehoeksteen.nl/evenement/vloer-wordt-opnieuw-gelakt-4/
CATEGORIES:Agenda voor Dorpshuis,Agenda voor verenigingen,Openbaar
END:VEVENT
BEGIN:VEVENT
DTSTART;VALUE=DATE:20260428
DTEND;VALUE=DATE:20260429
DTSTAMP:20260421T174424
CREATED:20260420T125409Z
LAST-MODIFIED:20260420T125409Z
UID:7039-1777334400-1777420799@dorpshuisdehoeksteen.nl
SUMMARY:Vloer wordt opnieuw “gelakt”
DESCRIPTION:Dorpshuis gesloten
URL:https://dorpshuisdehoeksteen.nl/evenement/vloer-wordt-opnieuw-gelakt-5/
CATEGORIES:Agenda voor Dorpshuis,Agenda voor verenigingen,Openbaar
END:VEVENT
BEGIN:VEVENT
DTSTART;VALUE=DATE:20260429
DTEND;VALUE=DATE:20260430
DTSTAMP:20260421T174424
CREATED:20260420T125503Z
LAST-MODIFIED:20260420T125503Z
UID:7041-1777420800-1777507199@dorpshuisdehoeksteen.nl
SUMMARY:Vloer wordt opnieuw “gelakt”
DESCRIPTION:Dorpshuis gesloten
URL:https://dorpshuisdehoeksteen.nl/evenement/vloer-wordt-opnieuw-gelakt-6/
CATEGORIES:Agenda voor Dorpshuis,Agenda voor verenigingen,Openbaar
END:VEVENT
BEGIN:VEVENT
DTSTART;VALUE=DATE:20260430
DTEND;VALUE=DATE:20260501
DTSTAMP:20260421T174424
CREATED:20260420T125545Z
LAST-MODIFIED:20260420T125545Z
UID:7043-1777507200-1777593599@dorpshuisdehoeksteen.nl
SUMMARY:Vloer wordt opnieuw “gelakt”
DESCRIPTION:Dorpshuis gesloten
URL:https://dorpshuisdehoeksteen.nl/evenement/vloer-wordt-opnieuw-gelakt-7/
CATEGORIES:Agenda voor Dorpshuis,Agenda voor verenigingen,Openbaar
END:VEVENT
BEGIN:VEVENT
DTSTART;TZID=Europe/Amsterdam:20260503T140000
DTEND;TZID=Europe/Amsterdam:20260503T170000
DTSTAMP:20260421T174424
CREATED:20260318T210250Z
LAST-MODIFIED:20260319T123924Z
UID:6933-1777816800-1777827600@dorpshuisdehoeksteen.nl
SUMMARY:Uitvoering Schermer Fanfare
DESCRIPTION:
URL:https://dorpshuisdehoeksteen.nl/evenement/uitvoering-schermer-fanfare/
LOCATION:Multiculturele zaal\, Vangstraat 2A\, Stompetoren\, NH\, 1841GN\, Netherlands
CATEGORIES:Agenda voor Dorpshuis,Openbaar
END:VEVENT
BEGIN:VEVENT
DTSTART;TZID=Europe/Amsterdam:20260526T180000
DTEND;TZID=Europe/Amsterdam:20260526T210000
DTSTAMP:20260421T174424
CREATED:20260402T194724Z
LAST-MODIFIED:20260420T123932Z
UID:6997-1779818400-1779829200@dorpshuisdehoeksteen.nl
SUMMARY:Wandel4daagse dag 1 (Organisator Jongerenvereniging ’t Honk)
DESCRIPTION:Wandel4Daagse 2026🎉🥾🏁🏅 \nZoals beloofd hierbij meer informatie over de Wandel4Daagse. \nWe vragen iedereen om goed de informatie te lezen voordat er opgegeven wordt.🖥️🧐📋✔️ \nZeker omdat we dit jaar weer op vrijdag met de bus op pad gaan 🚌 \nDaarom is het belangrijk dat:\n🧑‍🧒iedereen jonger dan 12 jaar begeleid wordt door een volwassenen.\n🎫 alleen betalende deelnemers recht hebben op een plekje in de bus. \nWe hebben de prijs per deelnemer (met moeite) gelijk weten te houden\, dus €5 per deelnemer incl. busrit\, iedere dag iets te drinken en lekkers. 👣🧋🍪 \n🆘 ook zijn we nog op zoek naar “hulp-toppers” die één of meerdere dagen bij een post of als verkeersregelaar aan de slag kunnen. 🚸 \nOnderstaand de link naar onze website met alle informatie en het aanmeldformulier 👇🏼 \nhttps://honkstompetoren.nl/wandelvierdaagse-info/ \nNa aanmelding is het dus heel belangrijk dat je een bevestigingsmail ontvangt! 📧📬 \n 
URL:https://dorpshuisdehoeksteen.nl/evenement/wandel4daagse-dag-1-organisator-jongerenvereniging-t-honk-2/
LOCATION:Dorp en omgeving
CATEGORIES:Agenda voor Dorpshuis,Agenda voor verenigingen,Openbaar
END:VEVENT
BEGIN:VEVENT
DTSTART;TZID=Europe/Amsterdam:20260527T180000
DTEND;TZID=Europe/Amsterdam:20260527T213000
DTSTAMP:20260421T174424
CREATED:20240406T175116Z
LAST-MODIFIED:20260420T124115Z
UID:3991-1779904800-1779917400@dorpshuisdehoeksteen.nl
SUMMARY:Wandel4daagse dag 2 (Organisator Jongerenvereniging ’t Honk)
DESCRIPTION:Wandel4Daagse 2026🎉🥾🏁🏅 \nZoals beloofd hierbij meer informatie over de Wandel4Daagse. \nWe vragen iedereen om goed de informatie te lezen voordat er opgegeven wordt.🖥️🧐📋✔️ \nZeker omdat we dit jaar weer op vrijdag met de bus op pad gaan 🚌 \nDaarom is het belangrijk dat:\n🧑‍🧒iedereen jonger dan 12 jaar begeleid wordt door een volwassenen.\n🎫 alleen betalende deelnemers recht hebben op een plekje in de bus. \nWe hebben de prijs per deelnemer (met moeite) gelijk weten te houden\, dus €5 per deelnemer incl. busrit\, iedere dag iets te drinken en lekkers. 👣🧋🍪 \n🆘 ook zijn we nog op zoek naar “hulp-toppers” die één of meerdere dagen bij een post of als verkeersregelaar aan de slag kunnen. 🚸 \nOnderstaand de link naar onze website met alle informatie en het aanmeldformulier 👇🏼 \nhttps://honkstompetoren.nl/wandelvierdaagse-info/ \nNa aanmelding is het dus heel belangrijk dat je een bevestigingsmail ontvangt! 📧📬
URL:https://dorpshuisdehoeksteen.nl/evenement/wandel4daagse-organisator-t-honk-2/
LOCATION:Dorp en omgeving
CATEGORIES:Agenda voor Dorpshuis,Agenda voor verenigingen,Openbaar
END:VEVENT
BEGIN:VEVENT
DTSTART;TZID=Europe/Amsterdam:20260528T180000
DTEND;TZID=Europe/Amsterdam:20260528T213000
DTSTAMP:20260421T174424
CREATED:20240406T175243Z
LAST-MODIFIED:20260420T124244Z
UID:3994-1779991200-1780003800@dorpshuisdehoeksteen.nl
SUMMARY:Wandel4daagse dag 3 (Organisator Jongerenvereniging ’t Honk)
DESCRIPTION:Wandel4Daagse 2026🎉🥾🏁🏅 \nZoals beloofd hierbij meer informatie over de Wandel4Daagse. \nWe vragen iedereen om goed de informatie te lezen voordat er opgegeven wordt.🖥️🧐📋✔️ \nZeker omdat we dit jaar weer op vrijdag met de bus op pad gaan 🚌 \nDaarom is het belangrijk dat:\n🧑‍🧒iedereen jonger dan 12 jaar begeleid wordt door een volwassenen.\n🎫 alleen betalende deelnemers recht hebben op een plekje in de bus. \nWe hebben de prijs per deelnemer (met moeite) gelijk weten te houden\, dus €5 per deelnemer incl. busrit\, iedere dag iets te drinken en lekkers. 👣🧋🍪 \n🆘 ook zijn we nog op zoek naar “hulp-toppers” die één of meerdere dagen bij een post of als verkeersregelaar aan de slag kunnen. 🚸 \nOnderstaand de link naar onze website met alle informatie en het aanmeldformulier 👇🏼 \nhttps://honkstompetoren.nl/wandelvierdaagse-info/ \nNa aanmelding is het dus heel belangrijk dat je een bevestigingsmail ontvangt! 📧📬 \n 
URL:https://dorpshuisdehoeksteen.nl/evenement/wandel4daagse-organisator-t-honk-3/
LOCATION:Dorp en omgeving
CATEGORIES:Agenda voor Dorpshuis,Agenda voor verenigingen,Openbaar
END:VEVENT
BEGIN:VEVENT
DTSTART;TZID=Europe/Amsterdam:20260529T180000
DTEND;TZID=Europe/Amsterdam:20260529T213000
DTSTAMP:20260421T174424
CREATED:20240406T175358Z
LAST-MODIFIED:20260420T124336Z
UID:3997-1780077600-1780090200@dorpshuisdehoeksteen.nl
SUMMARY:Wandel4daagse dag 4 (Organisator Jongerenvereniging ’t Honk)
DESCRIPTION:Wandel4Daagse 2026🎉🥾🏁🏅 \nZoals beloofd hierbij meer informatie over de Wandel4Daagse. \nWe vragen iedereen om goed de informatie te lezen voordat er opgegeven wordt.🖥️🧐📋✔️ \nZeker omdat we dit jaar weer op vrijdag met de bus op pad gaan 🚌 \nDaarom is het belangrijk dat:\n🧑‍🧒iedereen jonger dan 12 jaar begeleid wordt door een volwassenen.\n🎫 alleen betalende deelnemers recht hebben op een plekje in de bus. \nWe hebben de prijs per deelnemer (met moeite) gelijk weten te houden\, dus €5 per deelnemer incl. busrit\, iedere dag iets te drinken en lekkers. 👣🧋🍪 \n🆘 ook zijn we nog op zoek naar “hulp-toppers” die één of meerdere dagen bij een post of als verkeersregelaar aan de slag kunnen. 🚸 \nOnderstaand de link naar onze website met alle informatie en het aanmeldformulier 👇🏼 \nhttps://honkstompetoren.nl/wandelvierdaagse-info/ \nNa aanmelding is het dus heel belangrijk dat je een bevestigingsmail ontvangt! 📧📬 \n 
URL:https://dorpshuisdehoeksteen.nl/evenement/wandel4daagse-organisator-t-honk-4/
LOCATION:Dorp en omgeving
CATEGORIES:Agenda voor Dorpshuis,Agenda voor verenigingen,Openbaar
END:VEVENT
BEGIN:VEVENT
DTSTART;TZID=Europe/Amsterdam:20260605T090000
DTEND;TZID=Europe/Amsterdam:20260605T110000
DTSTAMP:20260421T174424
CREATED:20260421T154234Z
LAST-MODIFIED:20260421T154234Z
UID:7045-1780650000-1780657200@dorpshuisdehoeksteen.nl
SUMMARY:Vrouwen evenement (georganiseerd door De Hoofdzaak)
DESCRIPTION:De Hoofdzaak is een organisatie die mensen met een psychische of mentale kwetsbaarheid ondersteunt – met nadruk op ontmoeting\, herstel en persoonlijke ontwikkeling. \nPsychische kwetsbaarheid komt vaker voor dan men denkt. In het dagelijks leven kan iedereen ermee te maken krijgen: burn-out\, depressie\, rouw\, verslaving\, PTSS of andere mentale uitdagingen. De missie van De Hoofdzaak is om mensen hierin niet alleen te laten staan. \nDe organisatie biedt onder meer: \n\nIndividuele begeleiding en herstelondersteuning\nGroepsactiviteiten en cursussen gericht op persoonlijke groei\nEen informatiepunt voor inwoners\, naasten en professionals\nThemabijeenkomsten en voorlichting over mentale gezondheid\nOndersteuning bij het opstellen van een crisiskaart\n\nHet doel is om samen te werken met lokale ontmoetingsplekken in de dorpen\, om meer zichtbaarheid van De Hoofdzaak te creëren\, zodat inwoners beter ondersteund worden. \nIn de steden is De Hoofdzaak inmiddels goed vertegenwoordigd\, en nu wordt gekeken naar mogelijkheden om ook in dorpen zoals Stompetoren en andere dorpen rondom Alkmaar activiteiten en ondersteuning aan te bieden. Dit hoeft helemaal niet zwaar of formeel te zijn; het kan bijvoorbeeld een samenkomst\, filmavond\, creatieve middag of een andere laagdrempelige activiteit zijn.
URL:https://dorpshuisdehoeksteen.nl/evenement/vrouwen-evenement-georganiseerd-door-de-hoofdzaak/
LOCATION:Multiculturele zaal\, Vangstraat 2A\, Stompetoren\, NH\, 1841GN\, Netherlands
CATEGORIES:Agenda voor Dorpshuis,Agenda voor verenigingen,Openbaar
END:VEVENT
BEGIN:VEVENT
DTSTART;TZID=Europe/Amsterdam:20270317T070000
DTEND;TZID=Europe/Amsterdam:20270317T233000
DTSTAMP:20260421T174424
CREATED:20260323T221224Z
LAST-MODIFIED:20260323T221224Z
UID:6950-1805266800-1805326200@dorpshuisdehoeksteen.nl
SUMMARY:Verkiezingen Provinciale Staten en Waterschappen
DESCRIPTION:
URL:https://dorpshuisdehoeksteen.nl/evenement/verkiezingen-provinciale-staten-en-waterschappen/
LOCATION:Multiculturele zaal\, Vangstraat 2A\, Stompetoren\, NH\, 1841GN\, Netherlands
CATEGORIES:Agenda voor Dorpshuis,Openbaar
END:VEVENT
END:VCALENDAR