BEGIN:VCALENDAR
VERSION:2.0
PRODID:-//Dorpshuis de Hoeksteen - ECPv6.15.20//NONSGML v1.0//EN
CALSCALE:GREGORIAN
METHOD:PUBLISH
X-ORIGINAL-URL:https://dorpshuisdehoeksteen.nl
X-WR-CALDESC:Evenementen voor Dorpshuis de Hoeksteen
REFRESH-INTERVAL;VALUE=DURATION:PT1H
X-Robots-Tag:noindex
X-PUBLISHED-TTL:PT1H
BEGIN:VTIMEZONE
TZID:Europe/Amsterdam
BEGIN:DAYLIGHT
TZOFFSETFROM:+0100
TZOFFSETTO:+0200
TZNAME:CEST
DTSTART:20250330T010000
END:DAYLIGHT
BEGIN:STANDARD
TZOFFSETFROM:+0200
TZOFFSETTO:+0100
TZNAME:CET
DTSTART:20251026T010000
END:STANDARD
BEGIN:DAYLIGHT
TZOFFSETFROM:+0100
TZOFFSETTO:+0200
TZNAME:CEST
DTSTART:20260329T010000
END:DAYLIGHT
BEGIN:STANDARD
TZOFFSETFROM:+0200
TZOFFSETTO:+0100
TZNAME:CET
DTSTART:20261025T010000
END:STANDARD
BEGIN:DAYLIGHT
TZOFFSETFROM:+0100
TZOFFSETTO:+0200
TZNAME:CEST
DTSTART:20270328T010000
END:DAYLIGHT
BEGIN:STANDARD
TZOFFSETFROM:+0200
TZOFFSETTO:+0100
TZNAME:CET
DTSTART:20271031T010000
END:STANDARD
END:VTIMEZONE
BEGIN:VEVENT
DTSTART;TZID=Europe/Amsterdam:20260501T193000
DTEND;TZID=Europe/Amsterdam:20260501T220000
DTSTAMP:20260421T201440
CREATED:20260318T205747Z
LAST-MODIFIED:20260318T205747Z
UID:6930-1777663800-1777672800@dorpshuisdehoeksteen.nl
SUMMARY:Oefensessie Schermer Fanfare
DESCRIPTION:
URL:https://dorpshuisdehoeksteen.nl/evenement/oefensessie-schermer-fanfare/
LOCATION:Multiculturele zaal\, Vangstraat 2A\, Stompetoren\, NH\, 1841GN\, Netherlands
CATEGORIES:Agenda voor Dorpshuis,Besloten
END:VEVENT
BEGIN:VEVENT
DTSTART;TZID=Europe/Amsterdam:20260503T140000
DTEND;TZID=Europe/Amsterdam:20260503T170000
DTSTAMP:20260421T201440
CREATED:20260318T210250Z
LAST-MODIFIED:20260319T123924Z
UID:6933-1777816800-1777827600@dorpshuisdehoeksteen.nl
SUMMARY:Uitvoering Schermer Fanfare
DESCRIPTION:
URL:https://dorpshuisdehoeksteen.nl/evenement/uitvoering-schermer-fanfare/
LOCATION:Multiculturele zaal\, Vangstraat 2A\, Stompetoren\, NH\, 1841GN\, Netherlands
CATEGORIES:Agenda voor Dorpshuis,Openbaar
END:VEVENT
BEGIN:VEVENT
DTSTART;TZID=Europe/Amsterdam:20260504T100000
DTEND;TZID=Europe/Amsterdam:20260504T123000
DTSTAMP:20260421T201440
CREATED:20251231T130148Z
LAST-MODIFIED:20251231T130148Z
UID:6489-1777888800-1777897800@dorpshuisdehoeksteen.nl
SUMMARY:Inloopochtend en Repair cafe Dorpshuis de Hoeksteen
DESCRIPTION:Vrije inloop deze ochtend. De koffie en thee staat klaar. Kom gezellig langs. Jan Groot en Ton Langedijk zijn aanwezig om uw defecte apparaten weer tot leven te wekken !!
URL:https://dorpshuisdehoeksteen.nl/evenement/inloopochtend-en-repair-cafe-dorpshuis-de-hoeksteen-57/
LOCATION:Multiculturele zaal\, Vangstraat 2A\, Stompetoren\, NH\, 1841GN\, Netherlands
CATEGORIES:Agenda voor Dorpshuis
END:VEVENT
BEGIN:VEVENT
DTSTART;TZID=Europe/Amsterdam:20260505T193000
DTEND;TZID=Europe/Amsterdam:20260505T213000
DTSTAMP:20260421T201440
CREATED:20260107T082916Z
LAST-MODIFIED:20260222T184431Z
UID:6623-1778009400-1778016600@dorpshuisdehoeksteen.nl
SUMMARY:Samen zingen
DESCRIPTION:Voor iedereen die van zingen houdt. Heb je zin om te zingen?. Ervaring niet vereist.
URL:https://dorpshuisdehoeksteen.nl/evenement/samen-zingen-9/
LOCATION:Multiculturele zaal\, Vangstraat 2A\, Stompetoren\, NH\, 1841GN\, Netherlands
CATEGORIES:Agenda voor Dorpshuis
END:VEVENT
BEGIN:VEVENT
DTSTART;TZID=Europe/Amsterdam:20260506T193000
DTEND;TZID=Europe/Amsterdam:20260506T213000
DTSTAMP:20260421T201440
CREATED:20260101T114930Z
LAST-MODIFIED:20260101T114930Z
UID:6509-1778095800-1778103000@dorpshuisdehoeksteen.nl
SUMMARY:Vergadering Dorpshuis de Hoeksteen
DESCRIPTION:
URL:https://dorpshuisdehoeksteen.nl/evenement/vergadering-dorpshuis-de-hoeksteen-59/
LOCATION:Huiskamer\, Vangstraat 2A\, Stompetoren\, NH\, 1841GN\, Netherlands
CATEGORIES:Agenda voor Dorpshuis
END:VEVENT
BEGIN:VEVENT
DTSTART;TZID=Europe/Amsterdam:20260507T100000
DTEND;TZID=Europe/Amsterdam:20260507T120000
DTSTAMP:20260421T201440
CREATED:20251231T112654Z
LAST-MODIFIED:20251231T112654Z
UID:6292-1778148000-1778155200@dorpshuisdehoeksteen.nl
SUMMARY:Handwerk ochtend
DESCRIPTION:Heb je zin in een gezellige ochtend samen handwerken dan ben je van harte welkom.
URL:https://dorpshuisdehoeksteen.nl/evenement/handwerk-ochtend-155/
LOCATION:Multiculturele zaal\, Vangstraat 2A\, Stompetoren\, NH\, 1841GN\, Netherlands
CATEGORIES:Agenda voor Dorpshuis
END:VEVENT
BEGIN:VEVENT
DTSTART;TZID=Europe/Amsterdam:20260508T200000
DTEND;TZID=Europe/Amsterdam:20260508T223000
DTSTAMP:20260421T201440
CREATED:20260326T201450Z
LAST-MODIFIED:20260326T201450Z
UID:6968-1778270400-1778279400@dorpshuisdehoeksteen.nl
SUMMARY:Chillen in ’t Honk (Organisator Jongerenvereniging ’t Honk)
DESCRIPTION:
URL:https://dorpshuisdehoeksteen.nl/evenement/chillen-in-t-honk-organisator-jongerenvereniging-t-honk-27/
LOCATION:Multiculturele zaal\, Vangstraat 2A\, Stompetoren\, NH\, 1841GN\, Netherlands
CATEGORIES:Agenda voor Dorpshuis,Agenda voor verenigingen,Besloten
END:VEVENT
BEGIN:VEVENT
DTSTART;TZID=Europe/Amsterdam:20260511T133000
DTEND;TZID=Europe/Amsterdam:20260511T153000
DTSTAMP:20260421T201440
CREATED:20251217T103117Z
LAST-MODIFIED:20251217T104323Z
UID:6237-1778506200-1778513400@dorpshuisdehoeksteen.nl
SUMMARY:Teamoverleg Bloezem
DESCRIPTION:
URL:https://dorpshuisdehoeksteen.nl/evenement/teamoverleg-bloezem-2/
LOCATION:Huiskamer\, Vangstraat 2A\, Stompetoren\, NH\, 1841GN\, Netherlands
CATEGORIES:Agenda voor Dorpshuis,Besloten
END:VEVENT
BEGIN:VEVENT
DTSTART;TZID=Europe/Amsterdam:20260513T140000
DTEND;TZID=Europe/Amsterdam:20260513T160000
DTSTAMP:20260421T201440
CREATED:20251231T120451Z
LAST-MODIFIED:20251231T120744Z
UID:6360-1778680800-1778688000@dorpshuisdehoeksteen.nl
SUMMARY:Creatief café (Organisator: Welzijn WonenPlus)
DESCRIPTION:Activiteiten Welzijn Wonenplus
URL:https://dorpshuisdehoeksteen.nl/evenement/creatief-cafz-organisator-welzijn-wonenplus-33/
LOCATION:Multiculturele zaal\, Vangstraat 2A\, Stompetoren\, NH\, 1841GN\, Netherlands
CATEGORIES:Agenda voor Dorpshuis
END:VEVENT
BEGIN:VEVENT
DTSTART;VALUE=DATE:20260514
DTEND;VALUE=DATE:20260515
DTSTAMP:20260421T201440
CREATED:20260418T103116Z
LAST-MODIFIED:20260418T103116Z
UID:7020-1778716800-1778803199@dorpshuisdehoeksteen.nl
SUMMARY:Hemelvaartsdag
DESCRIPTION:
URL:https://dorpshuisdehoeksteen.nl/evenement/hemelvaartsdag/
END:VEVENT
BEGIN:VEVENT
DTSTART;TZID=Europe/Amsterdam:20260514T100000
DTEND;TZID=Europe/Amsterdam:20260514T120000
DTSTAMP:20260421T201440
CREATED:20251231T112655Z
LAST-MODIFIED:20251231T112655Z
UID:6293-1778752800-1778760000@dorpshuisdehoeksteen.nl
SUMMARY:Handwerk ochtend
DESCRIPTION:Heb je zin in een gezellige ochtend samen handwerken dan ben je van harte welkom.
URL:https://dorpshuisdehoeksteen.nl/evenement/handwerk-ochtend-156/
LOCATION:Multiculturele zaal\, Vangstraat 2A\, Stompetoren\, NH\, 1841GN\, Netherlands
CATEGORIES:Agenda voor Dorpshuis
END:VEVENT
BEGIN:VEVENT
DTSTART;TZID=Europe/Amsterdam:20260518T100000
DTEND;TZID=Europe/Amsterdam:20260518T123000
DTSTAMP:20260421T201440
CREATED:20251231T130149Z
LAST-MODIFIED:20251231T130149Z
UID:6490-1779098400-1779107400@dorpshuisdehoeksteen.nl
SUMMARY:Inloopochtend en Repair cafe Dorpshuis de Hoeksteen
DESCRIPTION:Vrije inloop deze ochtend. De koffie en thee staat klaar. Kom gezellig langs. Jan Groot en Ton Langedijk zijn aanwezig om uw defecte apparaten weer tot leven te wekken !!
URL:https://dorpshuisdehoeksteen.nl/evenement/inloopochtend-en-repair-cafe-dorpshuis-de-hoeksteen-58/
LOCATION:Multiculturele zaal\, Vangstraat 2A\, Stompetoren\, NH\, 1841GN\, Netherlands
CATEGORIES:Agenda voor Dorpshuis
END:VEVENT
BEGIN:VEVENT
DTSTART;TZID=Europe/Amsterdam:20260519T193000
DTEND;TZID=Europe/Amsterdam:20260519T213000
DTSTAMP:20260421T201440
CREATED:20260107T082917Z
LAST-MODIFIED:20260222T184431Z
UID:6624-1779219000-1779226200@dorpshuisdehoeksteen.nl
SUMMARY:Samen zingen
DESCRIPTION:Voor iedereen die van zingen houdt. Heb je zin om te zingen?. Ervaring niet vereist.
URL:https://dorpshuisdehoeksteen.nl/evenement/samen-zingen-10/
LOCATION:Multiculturele zaal\, Vangstraat 2A\, Stompetoren\, NH\, 1841GN\, Netherlands
CATEGORIES:Agenda voor Dorpshuis
END:VEVENT
BEGIN:VEVENT
DTSTART;TZID=Europe/Amsterdam:20260519T193000
DTEND;TZID=Europe/Amsterdam:20260519T213000
DTSTAMP:20260421T201440
CREATED:20260407T202934Z
LAST-MODIFIED:20260407T202934Z
UID:7010-1779219000-1779226200@dorpshuisdehoeksteen.nl
SUMMARY:Vergadering Dorpsraad Stompetoren
DESCRIPTION:
URL:https://dorpshuisdehoeksteen.nl/evenement/vergadering-dorpsraad-stompetoren-2/
LOCATION:Huiskamer\, Vangstraat 2A\, Stompetoren\, NH\, 1841GN\, Netherlands
CATEGORIES:Agenda voor Dorpshuis,Besloten
END:VEVENT
BEGIN:VEVENT
DTSTART;TZID=Europe/Amsterdam:20260521T100000
DTEND;TZID=Europe/Amsterdam:20260521T120000
DTSTAMP:20260421T201440
CREATED:20251231T112655Z
LAST-MODIFIED:20251231T112655Z
UID:6294-1779357600-1779364800@dorpshuisdehoeksteen.nl
SUMMARY:Handwerk ochtend
DESCRIPTION:Heb je zin in een gezellige ochtend samen handwerken dan ben je van harte welkom.
URL:https://dorpshuisdehoeksteen.nl/evenement/handwerk-ochtend-157/
LOCATION:Multiculturele zaal\, Vangstraat 2A\, Stompetoren\, NH\, 1841GN\, Netherlands
CATEGORIES:Agenda voor Dorpshuis
END:VEVENT
BEGIN:VEVENT
DTSTART;VALUE=DATE:20260524
DTEND;VALUE=DATE:20260525
DTSTAMP:20260421T201440
CREATED:20260415T191530Z
LAST-MODIFIED:20260415T191530Z
UID:7014-1779580800-1779667199@dorpshuisdehoeksteen.nl
SUMMARY:Eerste Pinksterdag
DESCRIPTION:Dorpshuis gesloten
URL:https://dorpshuisdehoeksteen.nl/evenement/eerste-pinksterdag-2/
CATEGORIES:Agenda voor Dorpshuis,Agenda voor verenigingen,Besloten
END:VEVENT
BEGIN:VEVENT
DTSTART;VALUE=DATE:20260525
DTEND;VALUE=DATE:20260526
DTSTAMP:20260421T201440
CREATED:20260415T191625Z
LAST-MODIFIED:20260415T191625Z
UID:7016-1779667200-1779753599@dorpshuisdehoeksteen.nl
SUMMARY:Tweede Pinksterdag
DESCRIPTION:Dorpshuis gesloten
URL:https://dorpshuisdehoeksteen.nl/evenement/tweede-pinksterdag/
CATEGORIES:Agenda voor Dorpshuis,Agenda voor verenigingen,Besloten
END:VEVENT
BEGIN:VEVENT
DTSTART;TZID=Europe/Amsterdam:20260526T180000
DTEND;TZID=Europe/Amsterdam:20260526T210000
DTSTAMP:20260421T201440
CREATED:20260402T194724Z
LAST-MODIFIED:20260420T123932Z
UID:6997-1779818400-1779829200@dorpshuisdehoeksteen.nl
SUMMARY:Wandel4daagse dag 1 (Organisator Jongerenvereniging ’t Honk)
DESCRIPTION:Wandel4Daagse 2026🎉🥾🏁🏅 \nZoals beloofd hierbij meer informatie over de Wandel4Daagse. \nWe vragen iedereen om goed de informatie te lezen voordat er opgegeven wordt.🖥️🧐📋✔️ \nZeker omdat we dit jaar weer op vrijdag met de bus op pad gaan 🚌 \nDaarom is het belangrijk dat:\n🧑‍🧒iedereen jonger dan 12 jaar begeleid wordt door een volwassenen.\n🎫 alleen betalende deelnemers recht hebben op een plekje in de bus. \nWe hebben de prijs per deelnemer (met moeite) gelijk weten te houden\, dus €5 per deelnemer incl. busrit\, iedere dag iets te drinken en lekkers. 👣🧋🍪 \n🆘 ook zijn we nog op zoek naar “hulp-toppers” die één of meerdere dagen bij een post of als verkeersregelaar aan de slag kunnen. 🚸 \nOnderstaand de link naar onze website met alle informatie en het aanmeldformulier 👇🏼 \nhttps://honkstompetoren.nl/wandelvierdaagse-info/ \nNa aanmelding is het dus heel belangrijk dat je een bevestigingsmail ontvangt! 📧📬 \n 
URL:https://dorpshuisdehoeksteen.nl/evenement/wandel4daagse-dag-1-organisator-jongerenvereniging-t-honk-2/
LOCATION:Dorp en omgeving
CATEGORIES:Agenda voor Dorpshuis,Agenda voor verenigingen,Openbaar
END:VEVENT
BEGIN:VEVENT
DTSTART;TZID=Europe/Amsterdam:20260527T180000
DTEND;TZID=Europe/Amsterdam:20260527T213000
DTSTAMP:20260421T201440
CREATED:20240406T175116Z
LAST-MODIFIED:20260420T124115Z
UID:3991-1779904800-1779917400@dorpshuisdehoeksteen.nl
SUMMARY:Wandel4daagse dag 2 (Organisator Jongerenvereniging ’t Honk)
DESCRIPTION:Wandel4Daagse 2026🎉🥾🏁🏅 \nZoals beloofd hierbij meer informatie over de Wandel4Daagse. \nWe vragen iedereen om goed de informatie te lezen voordat er opgegeven wordt.🖥️🧐📋✔️ \nZeker omdat we dit jaar weer op vrijdag met de bus op pad gaan 🚌 \nDaarom is het belangrijk dat:\n🧑‍🧒iedereen jonger dan 12 jaar begeleid wordt door een volwassenen.\n🎫 alleen betalende deelnemers recht hebben op een plekje in de bus. \nWe hebben de prijs per deelnemer (met moeite) gelijk weten te houden\, dus €5 per deelnemer incl. busrit\, iedere dag iets te drinken en lekkers. 👣🧋🍪 \n🆘 ook zijn we nog op zoek naar “hulp-toppers” die één of meerdere dagen bij een post of als verkeersregelaar aan de slag kunnen. 🚸 \nOnderstaand de link naar onze website met alle informatie en het aanmeldformulier 👇🏼 \nhttps://honkstompetoren.nl/wandelvierdaagse-info/ \nNa aanmelding is het dus heel belangrijk dat je een bevestigingsmail ontvangt! 📧📬
URL:https://dorpshuisdehoeksteen.nl/evenement/wandel4daagse-organisator-t-honk-2/
LOCATION:Dorp en omgeving
CATEGORIES:Agenda voor Dorpshuis,Agenda voor verenigingen,Openbaar
END:VEVENT
BEGIN:VEVENT
DTSTART;TZID=Europe/Amsterdam:20260528T100000
DTEND;TZID=Europe/Amsterdam:20260528T120000
DTSTAMP:20260421T201440
CREATED:20251231T112708Z
LAST-MODIFIED:20251231T112708Z
UID:6295-1779962400-1779969600@dorpshuisdehoeksteen.nl
SUMMARY:Handwerk ochtend
DESCRIPTION:Heb je zin in een gezellige ochtend samen handwerken dan ben je van harte welkom.
URL:https://dorpshuisdehoeksteen.nl/evenement/handwerk-ochtend-158/
LOCATION:Multiculturele zaal\, Vangstraat 2A\, Stompetoren\, NH\, 1841GN\, Netherlands
CATEGORIES:Agenda voor Dorpshuis
END:VEVENT
BEGIN:VEVENT
DTSTART;TZID=Europe/Amsterdam:20260528T180000
DTEND;TZID=Europe/Amsterdam:20260528T213000
DTSTAMP:20260421T201440
CREATED:20240406T175243Z
LAST-MODIFIED:20260420T124244Z
UID:3994-1779991200-1780003800@dorpshuisdehoeksteen.nl
SUMMARY:Wandel4daagse dag 3 (Organisator Jongerenvereniging ’t Honk)
DESCRIPTION:Wandel4Daagse 2026🎉🥾🏁🏅 \nZoals beloofd hierbij meer informatie over de Wandel4Daagse. \nWe vragen iedereen om goed de informatie te lezen voordat er opgegeven wordt.🖥️🧐📋✔️ \nZeker omdat we dit jaar weer op vrijdag met de bus op pad gaan 🚌 \nDaarom is het belangrijk dat:\n🧑‍🧒iedereen jonger dan 12 jaar begeleid wordt door een volwassenen.\n🎫 alleen betalende deelnemers recht hebben op een plekje in de bus. \nWe hebben de prijs per deelnemer (met moeite) gelijk weten te houden\, dus €5 per deelnemer incl. busrit\, iedere dag iets te drinken en lekkers. 👣🧋🍪 \n🆘 ook zijn we nog op zoek naar “hulp-toppers” die één of meerdere dagen bij een post of als verkeersregelaar aan de slag kunnen. 🚸 \nOnderstaand de link naar onze website met alle informatie en het aanmeldformulier 👇🏼 \nhttps://honkstompetoren.nl/wandelvierdaagse-info/ \nNa aanmelding is het dus heel belangrijk dat je een bevestigingsmail ontvangt! 📧📬 \n 
URL:https://dorpshuisdehoeksteen.nl/evenement/wandel4daagse-organisator-t-honk-3/
LOCATION:Dorp en omgeving
CATEGORIES:Agenda voor Dorpshuis,Agenda voor verenigingen,Openbaar
END:VEVENT
BEGIN:VEVENT
DTSTART;TZID=Europe/Amsterdam:20260529T180000
DTEND;TZID=Europe/Amsterdam:20260529T213000
DTSTAMP:20260421T201440
CREATED:20240406T175358Z
LAST-MODIFIED:20260420T124336Z
UID:3997-1780077600-1780090200@dorpshuisdehoeksteen.nl
SUMMARY:Wandel4daagse dag 4 (Organisator Jongerenvereniging ’t Honk)
DESCRIPTION:Wandel4Daagse 2026🎉🥾🏁🏅 \nZoals beloofd hierbij meer informatie over de Wandel4Daagse. \nWe vragen iedereen om goed de informatie te lezen voordat er opgegeven wordt.🖥️🧐📋✔️ \nZeker omdat we dit jaar weer op vrijdag met de bus op pad gaan 🚌 \nDaarom is het belangrijk dat:\n🧑‍🧒iedereen jonger dan 12 jaar begeleid wordt door een volwassenen.\n🎫 alleen betalende deelnemers recht hebben op een plekje in de bus. \nWe hebben de prijs per deelnemer (met moeite) gelijk weten te houden\, dus €5 per deelnemer incl. busrit\, iedere dag iets te drinken en lekkers. 👣🧋🍪 \n🆘 ook zijn we nog op zoek naar “hulp-toppers” die één of meerdere dagen bij een post of als verkeersregelaar aan de slag kunnen. 🚸 \nOnderstaand de link naar onze website met alle informatie en het aanmeldformulier 👇🏼 \nhttps://honkstompetoren.nl/wandelvierdaagse-info/ \nNa aanmelding is het dus heel belangrijk dat je een bevestigingsmail ontvangt! 📧📬 \n 
URL:https://dorpshuisdehoeksteen.nl/evenement/wandel4daagse-organisator-t-honk-4/
LOCATION:Dorp en omgeving
CATEGORIES:Agenda voor Dorpshuis,Agenda voor verenigingen,Openbaar
END:VEVENT
BEGIN:VEVENT
DTSTART;TZID=Europe/Amsterdam:20260601T100000
DTEND;TZID=Europe/Amsterdam:20260601T123000
DTSTAMP:20260421T201440
CREATED:20251231T130204Z
LAST-MODIFIED:20251231T130204Z
UID:6491-1780308000-1780317000@dorpshuisdehoeksteen.nl
SUMMARY:Inloopochtend en Repair cafe Dorpshuis de Hoeksteen
DESCRIPTION:Vrije inloop deze ochtend. De koffie en thee staat klaar. Kom gezellig langs. Jan Groot en Ton Langedijk zijn aanwezig om uw defecte apparaten weer tot leven te wekken !!
URL:https://dorpshuisdehoeksteen.nl/evenement/inloopochtend-en-repair-cafe-dorpshuis-de-hoeksteen-59/
LOCATION:Multiculturele zaal\, Vangstraat 2A\, Stompetoren\, NH\, 1841GN\, Netherlands
CATEGORIES:Agenda voor Dorpshuis
END:VEVENT
BEGIN:VEVENT
DTSTART;TZID=Europe/Amsterdam:20260602T193000
DTEND;TZID=Europe/Amsterdam:20260602T213000
DTSTAMP:20260421T201440
CREATED:20260107T082932Z
LAST-MODIFIED:20260222T184431Z
UID:6625-1780428600-1780435800@dorpshuisdehoeksteen.nl
SUMMARY:Samen zingen
DESCRIPTION:Voor iedereen die van zingen houdt. Heb je zin om te zingen?. Ervaring niet vereist.
URL:https://dorpshuisdehoeksteen.nl/evenement/samen-zingen-11/
LOCATION:Multiculturele zaal\, Vangstraat 2A\, Stompetoren\, NH\, 1841GN\, Netherlands
CATEGORIES:Agenda voor Dorpshuis
END:VEVENT
BEGIN:VEVENT
DTSTART;TZID=Europe/Amsterdam:20260603T193000
DTEND;TZID=Europe/Amsterdam:20260603T213000
DTSTAMP:20260421T201440
CREATED:20260101T114932Z
LAST-MODIFIED:20260101T114932Z
UID:6510-1780515000-1780522200@dorpshuisdehoeksteen.nl
SUMMARY:Vergadering Dorpshuis de Hoeksteen
DESCRIPTION:
URL:https://dorpshuisdehoeksteen.nl/evenement/vergadering-dorpshuis-de-hoeksteen-60/
LOCATION:Huiskamer\, Vangstraat 2A\, Stompetoren\, NH\, 1841GN\, Netherlands
CATEGORIES:Agenda voor Dorpshuis
END:VEVENT
BEGIN:VEVENT
DTSTART;TZID=Europe/Amsterdam:20260604T100000
DTEND;TZID=Europe/Amsterdam:20260604T120000
DTSTAMP:20260421T201440
CREATED:20251231T112709Z
LAST-MODIFIED:20251231T112709Z
UID:6296-1780567200-1780574400@dorpshuisdehoeksteen.nl
SUMMARY:Handwerk ochtend
DESCRIPTION:Heb je zin in een gezellige ochtend samen handwerken dan ben je van harte welkom.
URL:https://dorpshuisdehoeksteen.nl/evenement/handwerk-ochtend-159/
LOCATION:Multiculturele zaal\, Vangstraat 2A\, Stompetoren\, NH\, 1841GN\, Netherlands
CATEGORIES:Agenda voor Dorpshuis
END:VEVENT
BEGIN:VEVENT
DTSTART;TZID=Europe/Amsterdam:20260604T193000
DTEND;TZID=Europe/Amsterdam:20260604T230000
DTSTAMP:20260421T201440
CREATED:20260101T120753Z
LAST-MODIFIED:20260201T215721Z
UID:6526-1780601400-1780614000@dorpshuisdehoeksteen.nl
SUMMARY:Vrij biljarten (donderdagavond)
DESCRIPTION:Op deze avond is er vrij biljarten met een eigen huurbijdrage van 1 euro 50 per persoon
URL:https://dorpshuisdehoeksteen.nl/evenement/vrij-biljarten-donderdagavond-121/
LOCATION:Biljart zaal\, Vangstraat 2A\, STOMPETOREN\, 1841GN\, Netherlands
CATEGORIES:Agenda voor Dorpshuis
END:VEVENT
BEGIN:VEVENT
DTSTART;TZID=Europe/Amsterdam:20260605T090000
DTEND;TZID=Europe/Amsterdam:20260605T110000
DTSTAMP:20260421T201440
CREATED:20260421T154234Z
LAST-MODIFIED:20260421T154234Z
UID:7045-1780650000-1780657200@dorpshuisdehoeksteen.nl
SUMMARY:Vrouwen evenement (georganiseerd door De Hoofdzaak)
DESCRIPTION:De Hoofdzaak is een organisatie die mensen met een psychische of mentale kwetsbaarheid ondersteunt – met nadruk op ontmoeting\, herstel en persoonlijke ontwikkeling. \nPsychische kwetsbaarheid komt vaker voor dan men denkt. In het dagelijks leven kan iedereen ermee te maken krijgen: burn-out\, depressie\, rouw\, verslaving\, PTSS of andere mentale uitdagingen. De missie van De Hoofdzaak is om mensen hierin niet alleen te laten staan. \nDe organisatie biedt onder meer: \n\nIndividuele begeleiding en herstelondersteuning\nGroepsactiviteiten en cursussen gericht op persoonlijke groei\nEen informatiepunt voor inwoners\, naasten en professionals\nThemabijeenkomsten en voorlichting over mentale gezondheid\nOndersteuning bij het opstellen van een crisiskaart\n\nHet doel is om samen te werken met lokale ontmoetingsplekken in de dorpen\, om meer zichtbaarheid van De Hoofdzaak te creëren\, zodat inwoners beter ondersteund worden. \nIn de steden is De Hoofdzaak inmiddels goed vertegenwoordigd\, en nu wordt gekeken naar mogelijkheden om ook in dorpen zoals Stompetoren en andere dorpen rondom Alkmaar activiteiten en ondersteuning aan te bieden. Dit hoeft helemaal niet zwaar of formeel te zijn; het kan bijvoorbeeld een samenkomst\, filmavond\, creatieve middag of een andere laagdrempelige activiteit zijn.
URL:https://dorpshuisdehoeksteen.nl/evenement/vrouwen-evenement-georganiseerd-door-de-hoofdzaak/
LOCATION:Multiculturele zaal\, Vangstraat 2A\, Stompetoren\, NH\, 1841GN\, Netherlands
CATEGORIES:Agenda voor Dorpshuis,Agenda voor verenigingen,Openbaar
END:VEVENT
BEGIN:VEVENT
DTSTART;TZID=Europe/Amsterdam:20260605T133000
DTEND;TZID=Europe/Amsterdam:20260605T153000
DTSTAMP:20260421T201440
CREATED:20251217T103427Z
LAST-MODIFIED:20251217T103427Z
UID:6239-1780666200-1780673400@dorpshuisdehoeksteen.nl
SUMMARY:EVV/VIG overleg Bloezem
DESCRIPTION:
URL:https://dorpshuisdehoeksteen.nl/evenement/evv-vig-overleg-bloezem-2/
LOCATION:Huiskamer\, Vangstraat 2A\, Stompetoren\, NH\, 1841GN\, Netherlands
CATEGORIES:Agenda voor Dorpshuis,Besloten
END:VEVENT
BEGIN:VEVENT
DTSTART;TZID=Europe/Amsterdam:20260605T140000
DTEND;TZID=Europe/Amsterdam:20260605T170000
DTSTAMP:20260421T201440
CREATED:20260316T130122Z
LAST-MODIFIED:20260316T130122Z
UID:6928-1780668000-1780678800@dorpshuisdehoeksteen.nl
SUMMARY:High Tea i.v.m. 40 jarig jubileum
DESCRIPTION:
URL:https://dorpshuisdehoeksteen.nl/evenement/high-tea-i-v-m-40-jarig-jubileum/
LOCATION:Multiculturele zaal\, Vangstraat 2A\, Stompetoren\, NH\, 1841GN\, Netherlands
CATEGORIES:Agenda voor Dorpshuis,Besloten
END:VEVENT
END:VCALENDAR